﻿BEGIN:VCALENDAR
VERSION:2.0
PRODID:-//CCC - ECPv6.15.17.1//NONSGML v1.0//EN
CALSCALE:GREGORIAN
METHOD:PUBLISH
X-ORIGINAL-URL:https://christchurchcranbrook.org
X-WR-CALDESC:Events for CCC
REFRESH-INTERVAL;VALUE=DURATION:PT1H
X-Robots-Tag:noindex
X-PUBLISHED-TTL:PT1H
BEGIN:VTIMEZONE
TZID:America/Detroit
BEGIN:DAYLIGHT
TZOFFSETFROM:-0500
TZOFFSETTO:-0400
TZNAME:EDT
DTSTART:20240310T070000
END:DAYLIGHT
BEGIN:STANDARD
TZOFFSETFROM:-0400
TZOFFSETTO:-0500
TZNAME:EST
DTSTART:20241103T060000
END:STANDARD
BEGIN:DAYLIGHT
TZOFFSETFROM:-0500
TZOFFSETTO:-0400
TZNAME:EDT
DTSTART:20250309T070000
END:DAYLIGHT
BEGIN:STANDARD
TZOFFSETFROM:-0400
TZOFFSETTO:-0500
TZNAME:EST
DTSTART:20251102T060000
END:STANDARD
BEGIN:DAYLIGHT
TZOFFSETFROM:-0500
TZOFFSETTO:-0400
TZNAME:EDT
DTSTART:20260308T070000
END:DAYLIGHT
BEGIN:STANDARD
TZOFFSETFROM:-0400
TZOFFSETTO:-0500
TZNAME:EST
DTSTART:20261101T060000
END:STANDARD
END:VTIMEZONE
BEGIN:VEVENT
DTSTART;TZID=America/Detroit:20251223T190000
DTEND;TZID=America/Detroit:20251223T210000
DTSTAMP:20260422T211211
CREATED:20251108T161821Z
LAST-MODIFIED:20251108T161821Z
UID:20768-1766516400-1766523600@christchurchcranbrook.org
SUMMARY:Experience Lectio Divina
DESCRIPTION:Deepen your Advent journey in a new-old way this year with the ancient prayer practice of Lectio Divina. Each week\, a passage from the birth narratives of the Gospels will lead us into contemplation of the mystery and wonder of the Incarnation. Come and learn the ancient practice of “Lectio Divina” and discover how this prayerful encounter with the Bible can gently reshape our inner landscape\, awakening insight\, healing\, and transformation.
URL:https://christchurchcranbrook.org/event/experience-lectio-divina/2025-12-23/
LOCATION:Christ Church Cranbrook\, 470 Church Road\, Bloomfield Hills\, MI\, 48304\, United States
CATEGORIES:Adult Formation,Homepage Featured
ATTACH;FMTTYPE=image/jpeg:https://christchurchcranbrook.org/wp-content/uploads/2025/11/Do-kindness-1700-x-500-px-5.jpg
END:VEVENT
BEGIN:VEVENT
DTSTART;TZID=America/Detroit:20251216T190000
DTEND;TZID=America/Detroit:20251216T210000
DTSTAMP:20260422T211211
CREATED:20251108T161820Z
LAST-MODIFIED:20251108T161820Z
UID:20767-1765911600-1765918800@christchurchcranbrook.org
SUMMARY:Experience Lectio Divina
DESCRIPTION:Deepen your Advent journey in a new-old way this year with the ancient prayer practice of Lectio Divina. Each week\, a passage from the birth narratives of the Gospels will lead us into contemplation of the mystery and wonder of the Incarnation. Come and learn the ancient practice of “Lectio Divina” and discover how this prayerful encounter with the Bible can gently reshape our inner landscape\, awakening insight\, healing\, and transformation.
URL:https://christchurchcranbrook.org/event/experience-lectio-divina/2025-12-16/
LOCATION:Christ Church Cranbrook\, 470 Church Road\, Bloomfield Hills\, MI\, 48304\, United States
CATEGORIES:Adult Formation,Homepage Featured
ATTACH;FMTTYPE=image/jpeg:https://christchurchcranbrook.org/wp-content/uploads/2025/11/Do-kindness-1700-x-500-px-5.jpg
END:VEVENT
BEGIN:VEVENT
DTSTART;TZID=America/Detroit:20251209T190000
DTEND;TZID=America/Detroit:20251209T210000
DTSTAMP:20260422T211211
CREATED:20251108T161820Z
LAST-MODIFIED:20251108T161820Z
UID:20766-1765306800-1765314000@christchurchcranbrook.org
SUMMARY:Experience Lectio Divina
DESCRIPTION:Deepen your Advent journey in a new-old way this year with the ancient prayer practice of Lectio Divina. Each week\, a passage from the birth narratives of the Gospels will lead us into contemplation of the mystery and wonder of the Incarnation. Come and learn the ancient practice of “Lectio Divina” and discover how this prayerful encounter with the Bible can gently reshape our inner landscape\, awakening insight\, healing\, and transformation.
URL:https://christchurchcranbrook.org/event/experience-lectio-divina/2025-12-09/
LOCATION:Christ Church Cranbrook\, 470 Church Road\, Bloomfield Hills\, MI\, 48304\, United States
CATEGORIES:Adult Formation,Homepage Featured
ATTACH;FMTTYPE=image/jpeg:https://christchurchcranbrook.org/wp-content/uploads/2025/11/Do-kindness-1700-x-500-px-5.jpg
END:VEVENT
BEGIN:VEVENT
DTSTART;TZID=America/Detroit:20251202T190000
DTEND;TZID=America/Detroit:20251202T210000
DTSTAMP:20260422T211211
CREATED:20251108T161819Z
LAST-MODIFIED:20251108T161819Z
UID:20764-1764702000-1764709200@christchurchcranbrook.org
SUMMARY:Experience Lectio Divina
DESCRIPTION:Deepen your Advent journey in a new-old way this year with the ancient prayer practice of Lectio Divina. Each week\, a passage from the birth narratives of the Gospels will lead us into contemplation of the mystery and wonder of the Incarnation. Come and learn the ancient practice of “Lectio Divina” and discover how this prayerful encounter with the Bible can gently reshape our inner landscape\, awakening insight\, healing\, and transformation.
URL:https://christchurchcranbrook.org/event/experience-lectio-divina/2025-12-02/
LOCATION:Christ Church Cranbrook\, 470 Church Road\, Bloomfield Hills\, MI\, 48304\, United States
CATEGORIES:Adult Formation,Homepage Featured
ATTACH;FMTTYPE=image/jpeg:https://christchurchcranbrook.org/wp-content/uploads/2025/11/Do-kindness-1700-x-500-px-5.jpg
END:VEVENT
END:VCALENDAR