﻿BEGIN:VCALENDAR
VERSION:2.0
PRODID:-//CCC - ECPv6.15.17.1//NONSGML v1.0//EN
CALSCALE:GREGORIAN
METHOD:PUBLISH
X-WR-CALNAME:CCC
X-ORIGINAL-URL:https://christchurchcranbrook.org
X-WR-CALDESC:Events for CCC
REFRESH-INTERVAL;VALUE=DURATION:PT1H
X-Robots-Tag:noindex
X-PUBLISHED-TTL:PT1H
BEGIN:VTIMEZONE
TZID:America/Detroit
BEGIN:DAYLIGHT
TZOFFSETFROM:-0500
TZOFFSETTO:-0400
TZNAME:EDT
DTSTART:20250309T070000
END:DAYLIGHT
BEGIN:STANDARD
TZOFFSETFROM:-0400
TZOFFSETTO:-0500
TZNAME:EST
DTSTART:20251102T060000
END:STANDARD
BEGIN:DAYLIGHT
TZOFFSETFROM:-0500
TZOFFSETTO:-0400
TZNAME:EDT
DTSTART:20260308T070000
END:DAYLIGHT
BEGIN:STANDARD
TZOFFSETFROM:-0400
TZOFFSETTO:-0500
TZNAME:EST
DTSTART:20261101T060000
END:STANDARD
BEGIN:DAYLIGHT
TZOFFSETFROM:-0500
TZOFFSETTO:-0400
TZNAME:EDT
DTSTART:20270314T070000
END:DAYLIGHT
BEGIN:STANDARD
TZOFFSETFROM:-0400
TZOFFSETTO:-0500
TZNAME:EST
DTSTART:20271107T060000
END:STANDARD
END:VTIMEZONE
BEGIN:VEVENT
DTSTART;TZID=America/Detroit:20260604T183000
DTEND;TZID=America/Detroit:20260604T203000
DTSTAMP:20260425T142658
CREATED:20260421T153052Z
LAST-MODIFIED:20260421T153516Z
UID:21787-1780597800-1780605000@christchurchcranbrook.org
SUMMARY:Trans Voices\, Shared Stories: A Book Study on The Collection
DESCRIPTION:We continue our trans series with a book study on The Collection\, a composite of short fiction bringing together a wide range of trans voices and experiences. Father Bill Carroll and Associate Professor of English and Affiliate Faculty with the Women and Gender Studies Program at Oakland University\, Andrea Knutson will host the program in the Ministry Center. \nAbout the reading material \n‘The Collection: Short Fiction from the Transgender Vanguard’ edited by Tom Léger and Riley MacLeod \nRSVP here: ccc-info.org/thecollection
URL:https://christchurchcranbrook.org/event/trans-voices-shared-stories-a-book-study-on-the-collection/2026-06-04/
LOCATION:Christ Church Cranbrook\, 470 Church Road\, Bloomfield Hills\, MI\, 48304\, United States
CATEGORIES:Adult Formation
ATTACH;FMTTYPE=image/jpeg:https://christchurchcranbrook.org/wp-content/uploads/2026/04/WEB-1200-x-800-px-updated-4.jpg
END:VEVENT
BEGIN:VEVENT
DTSTART;TZID=America/Detroit:20260702T183000
DTEND;TZID=America/Detroit:20260702T203000
DTSTAMP:20260425T142658
CREATED:20260421T153052Z
LAST-MODIFIED:20260421T153516Z
UID:21788-1783017000-1783024200@christchurchcranbrook.org
SUMMARY:Trans Voices\, Shared Stories: A Book Study on The Collection
DESCRIPTION:We continue our trans series with a book study on The Collection\, a composite of short fiction bringing together a wide range of trans voices and experiences. Father Bill Carroll and Associate Professor of English and Affiliate Faculty with the Women and Gender Studies Program at Oakland University\, Andrea Knutson will host the program in the Ministry Center. \nAbout the reading material \n‘The Collection: Short Fiction from the Transgender Vanguard’ edited by Tom Léger and Riley MacLeod \nRSVP here: ccc-info.org/thecollection
URL:https://christchurchcranbrook.org/event/trans-voices-shared-stories-a-book-study-on-the-collection/2026-07-02/
LOCATION:Christ Church Cranbrook\, 470 Church Road\, Bloomfield Hills\, MI\, 48304\, United States
CATEGORIES:Adult Formation
ATTACH;FMTTYPE=image/jpeg:https://christchurchcranbrook.org/wp-content/uploads/2026/04/WEB-1200-x-800-px-updated-4.jpg
END:VEVENT
END:VCALENDAR