﻿BEGIN:VCALENDAR
VERSION:2.0
PRODID:-//CCC - ECPv6.15.17.1//NONSGML v1.0//EN
CALSCALE:GREGORIAN
METHOD:PUBLISH
X-ORIGINAL-URL:https://christchurchcranbrook.org
X-WR-CALDESC:Events for CCC
REFRESH-INTERVAL;VALUE=DURATION:PT1H
X-Robots-Tag:noindex
X-PUBLISHED-TTL:PT1H
BEGIN:VTIMEZONE
TZID:America/Detroit
BEGIN:DAYLIGHT
TZOFFSETFROM:-0500
TZOFFSETTO:-0400
TZNAME:EDT
DTSTART:20240310T070000
END:DAYLIGHT
BEGIN:STANDARD
TZOFFSETFROM:-0400
TZOFFSETTO:-0500
TZNAME:EST
DTSTART:20241103T060000
END:STANDARD
BEGIN:DAYLIGHT
TZOFFSETFROM:-0500
TZOFFSETTO:-0400
TZNAME:EDT
DTSTART:20250309T070000
END:DAYLIGHT
BEGIN:STANDARD
TZOFFSETFROM:-0400
TZOFFSETTO:-0500
TZNAME:EST
DTSTART:20251102T060000
END:STANDARD
BEGIN:DAYLIGHT
TZOFFSETFROM:-0500
TZOFFSETTO:-0400
TZNAME:EDT
DTSTART:20260308T070000
END:DAYLIGHT
BEGIN:STANDARD
TZOFFSETFROM:-0400
TZOFFSETTO:-0500
TZNAME:EST
DTSTART:20261101T060000
END:STANDARD
END:VTIMEZONE
BEGIN:VEVENT
DTSTART;TZID=America/Detroit:20251207T140000
DTEND;TZID=America/Detroit:20251207T160000
DTSTAMP:20260419T101243
CREATED:20250910T143557Z
LAST-MODIFIED:20251020T162602Z
UID:20407-1765116000-1765123200@christchurchcranbrook.org
SUMMARY:Understanding Your Grief
DESCRIPTION:As you traverse through your grief of a death of someone you love\, it helps to know you do not travel alone. Part of the work of mourning is to be with others to deal with your own grief. When you are ready for this\, it helps to be part of a group. Please consider joining Pastor Manisha and parishioners Victoria Laurenzi-Jump\, MSW\, and fellow grievers\, Rich Lamb and Ralph Jones\, as we work together to understand how to be ourselves in the midst of our grief. \nRegister here: https://tinyurl.com/CCCGrief
URL:https://christchurchcranbrook.org/event/understanding-your-grief-2/2025-12-07/
LOCATION:Christ Church Cranbrook\, 470 Church Road\, Bloomfield Hills\, MI\, 48304\, United States
CATEGORIES:Pastoral Care
ATTACH;FMTTYPE=image/jpeg:https://christchurchcranbrook.org/wp-content/uploads/2025/09/September-2025-WEB-1700x500-8.jpg
END:VEVENT
BEGIN:VEVENT
DTSTART;TZID=America/Detroit:20251123T140000
DTEND;TZID=America/Detroit:20251123T160000
DTSTAMP:20260419T101243
CREATED:20250910T143557Z
LAST-MODIFIED:20251020T162602Z
UID:20406-1763906400-1763913600@christchurchcranbrook.org
SUMMARY:Understanding Your Grief
DESCRIPTION:As you traverse through your grief of a death of someone you love\, it helps to know you do not travel alone. Part of the work of mourning is to be with others to deal with your own grief. When you are ready for this\, it helps to be part of a group. Please consider joining Pastor Manisha and parishioners Victoria Laurenzi-Jump\, MSW\, and fellow grievers\, Rich Lamb and Ralph Jones\, as we work together to understand how to be ourselves in the midst of our grief. \nRegister here: https://tinyurl.com/CCCGrief
URL:https://christchurchcranbrook.org/event/understanding-your-grief-2/2025-11-23/
LOCATION:Christ Church Cranbrook\, 470 Church Road\, Bloomfield Hills\, MI\, 48304\, United States
CATEGORIES:Pastoral Care
ATTACH;FMTTYPE=image/jpeg:https://christchurchcranbrook.org/wp-content/uploads/2025/09/September-2025-WEB-1700x500-8.jpg
END:VEVENT
BEGIN:VEVENT
DTSTART;TZID=America/Detroit:20251116T140000
DTEND;TZID=America/Detroit:20251116T160000
DTSTAMP:20260419T101243
CREATED:20250910T143557Z
LAST-MODIFIED:20251020T162601Z
UID:20405-1763301600-1763308800@christchurchcranbrook.org
SUMMARY:Understanding Your Grief
DESCRIPTION:As you traverse through your grief of a death of someone you love\, it helps to know you do not travel alone. Part of the work of mourning is to be with others to deal with your own grief. When you are ready for this\, it helps to be part of a group. Please consider joining Pastor Manisha and parishioners Victoria Laurenzi-Jump\, MSW\, and fellow grievers\, Rich Lamb and Ralph Jones\, as we work together to understand how to be ourselves in the midst of our grief. \nRegister here: https://tinyurl.com/CCCGrief
URL:https://christchurchcranbrook.org/event/understanding-your-grief-2/2025-11-16/
LOCATION:Christ Church Cranbrook\, 470 Church Road\, Bloomfield Hills\, MI\, 48304\, United States
CATEGORIES:Pastoral Care
ATTACH;FMTTYPE=image/jpeg:https://christchurchcranbrook.org/wp-content/uploads/2025/09/September-2025-WEB-1700x500-8.jpg
END:VEVENT
BEGIN:VEVENT
DTSTART;TZID=America/Detroit:20251109T140000
DTEND;TZID=America/Detroit:20251109T160000
DTSTAMP:20260419T101243
CREATED:20250910T143557Z
LAST-MODIFIED:20251020T162601Z
UID:20404-1762696800-1762704000@christchurchcranbrook.org
SUMMARY:Understanding Your Grief
DESCRIPTION:As you traverse through your grief of a death of someone you love\, it helps to know you do not travel alone. Part of the work of mourning is to be with others to deal with your own grief. When you are ready for this\, it helps to be part of a group. Please consider joining Pastor Manisha and parishioners Victoria Laurenzi-Jump\, MSW\, and fellow grievers\, Rich Lamb and Ralph Jones\, as we work together to understand how to be ourselves in the midst of our grief. \nRegister here: https://tinyurl.com/CCCGrief
URL:https://christchurchcranbrook.org/event/understanding-your-grief-2/2025-11-09/
LOCATION:Christ Church Cranbrook\, 470 Church Road\, Bloomfield Hills\, MI\, 48304\, United States
CATEGORIES:Pastoral Care
ATTACH;FMTTYPE=image/jpeg:https://christchurchcranbrook.org/wp-content/uploads/2025/09/September-2025-WEB-1700x500-8.jpg
END:VEVENT
BEGIN:VEVENT
DTSTART;TZID=America/Detroit:20251102T140000
DTEND;TZID=America/Detroit:20251102T160000
DTSTAMP:20260419T101243
CREATED:20250910T143557Z
LAST-MODIFIED:20251020T162600Z
UID:20403-1762092000-1762099200@christchurchcranbrook.org
SUMMARY:Understanding Your Grief
DESCRIPTION:As you traverse through your grief of a death of someone you love\, it helps to know you do not travel alone. Part of the work of mourning is to be with others to deal with your own grief. When you are ready for this\, it helps to be part of a group. Please consider joining Pastor Manisha and parishioners Victoria Laurenzi-Jump\, MSW\, and fellow grievers\, Rich Lamb and Ralph Jones\, as we work together to understand how to be ourselves in the midst of our grief. \nRegister here: https://tinyurl.com/CCCGrief
URL:https://christchurchcranbrook.org/event/understanding-your-grief-2/2025-11-02/
LOCATION:Christ Church Cranbrook\, 470 Church Road\, Bloomfield Hills\, MI\, 48304\, United States
CATEGORIES:Pastoral Care
ATTACH;FMTTYPE=image/jpeg:https://christchurchcranbrook.org/wp-content/uploads/2025/09/September-2025-WEB-1700x500-8.jpg
END:VEVENT
BEGIN:VEVENT
DTSTART;TZID=America/Detroit:20251026T140000
DTEND;TZID=America/Detroit:20251026T160000
DTSTAMP:20260419T101243
CREATED:20250910T143557Z
LAST-MODIFIED:20251020T162559Z
UID:20402-1761487200-1761494400@christchurchcranbrook.org
SUMMARY:Understanding Your Grief
DESCRIPTION:As you traverse through your grief of a death of someone you love\, it helps to know you do not travel alone. Part of the work of mourning is to be with others to deal with your own grief. When you are ready for this\, it helps to be part of a group. Please consider joining Pastor Manisha and parishioners Victoria Laurenzi-Jump\, MSW\, and fellow grievers\, Rich Lamb and Ralph Jones\, as we work together to understand how to be ourselves in the midst of our grief. \nRegister here: https://tinyurl.com/CCCGrief
URL:https://christchurchcranbrook.org/event/understanding-your-grief-2/2025-10-26/
LOCATION:Christ Church Cranbrook\, 470 Church Road\, Bloomfield Hills\, MI\, 48304\, United States
CATEGORIES:Pastoral Care
ATTACH;FMTTYPE=image/jpeg:https://christchurchcranbrook.org/wp-content/uploads/2025/09/September-2025-WEB-1700x500-8.jpg
END:VEVENT
BEGIN:VEVENT
DTSTART;TZID=America/Detroit:20251019T140000
DTEND;TZID=America/Detroit:20251019T160000
DTSTAMP:20260419T101243
CREATED:20250910T143557Z
LAST-MODIFIED:20251020T162559Z
UID:20400-1760882400-1760889600@christchurchcranbrook.org
SUMMARY:Understanding Your Grief
DESCRIPTION:As you traverse through your grief of a death of someone you love\, it helps to know you do not travel alone. Part of the work of mourning is to be with others to deal with your own grief. When you are ready for this\, it helps to be part of a group. Please consider joining Pastor Manisha and parishioners Victoria Laurenzi-Jump\, MSW\, and fellow grievers\, Rich Lamb and Ralph Jones\, as we work together to understand how to be ourselves in the midst of our grief. \nRegister here: https://tinyurl.com/CCCGrief
URL:https://christchurchcranbrook.org/event/understanding-your-grief-2/2025-10-19/
LOCATION:Christ Church Cranbrook\, 470 Church Road\, Bloomfield Hills\, MI\, 48304\, United States
CATEGORIES:Pastoral Care
ATTACH;FMTTYPE=image/jpeg:https://christchurchcranbrook.org/wp-content/uploads/2025/09/September-2025-WEB-1700x500-8.jpg
END:VEVENT
END:VCALENDAR