﻿BEGIN:VCALENDAR
VERSION:2.0
PRODID:-//CCC - ECPv6.15.17.1//NONSGML v1.0//EN
CALSCALE:GREGORIAN
METHOD:PUBLISH
X-WR-CALNAME:CCC
X-ORIGINAL-URL:https://christchurchcranbrook.org
X-WR-CALDESC:Events for CCC
REFRESH-INTERVAL;VALUE=DURATION:PT1H
X-Robots-Tag:noindex
X-PUBLISHED-TTL:PT1H
BEGIN:VTIMEZONE
TZID:America/Detroit
BEGIN:DAYLIGHT
TZOFFSETFROM:-0500
TZOFFSETTO:-0400
TZNAME:EDT
DTSTART:20250309T070000
END:DAYLIGHT
BEGIN:STANDARD
TZOFFSETFROM:-0400
TZOFFSETTO:-0500
TZNAME:EST
DTSTART:20251102T060000
END:STANDARD
BEGIN:DAYLIGHT
TZOFFSETFROM:-0500
TZOFFSETTO:-0400
TZNAME:EDT
DTSTART:20260308T070000
END:DAYLIGHT
BEGIN:STANDARD
TZOFFSETFROM:-0400
TZOFFSETTO:-0500
TZNAME:EST
DTSTART:20261101T060000
END:STANDARD
BEGIN:DAYLIGHT
TZOFFSETFROM:-0500
TZOFFSETTO:-0400
TZNAME:EDT
DTSTART:20270314T070000
END:DAYLIGHT
BEGIN:STANDARD
TZOFFSETFROM:-0400
TZOFFSETTO:-0500
TZNAME:EST
DTSTART:20271107T060000
END:STANDARD
END:VTIMEZONE
BEGIN:VEVENT
DTSTART;TZID=America/Detroit:20260426T120000
DTEND;TZID=America/Detroit:20260426T160000
DTSTAMP:20260420T202026
CREATED:20260420T155332Z
LAST-MODIFIED:20260420T155541Z
UID:21836-1777204800-1777219200@christchurchcranbrook.org
SUMMARY:Families Do Kindness: Going to the Farm
DESCRIPTION:We will have a quick lunch\, then head over to the Do Better Farms in Holly. To help with some chores. Building the garden\, clear pastures\, and playing with animals! Families are encouraged to come as part of Do Kindness\, but all are welcome!\n\nRegister here: ccc-info.org/dobetterfarms
URL:https://christchurchcranbrook.org/event/families-do-kindness-going-to-the-farm/
LOCATION:MI
CATEGORIES:Children & Families,Homepage Featured
ATTACH;FMTTYPE=image/jpeg:https://christchurchcranbrook.org/wp-content/uploads/2026/04/WEB-1200-x-800-px-updated-12.jpg
END:VEVENT
BEGIN:VEVENT
DTSTART;TZID=America/Detroit:20260615T090000
DTEND;TZID=America/Detroit:20260619T120000
DTSTAMP:20260420T202026
CREATED:20260121T154848Z
LAST-MODIFIED:20260121T154848Z
UID:21259-1781514000-1781870400@christchurchcranbrook.org
SUMMARY:Vacation Bible School 2026
DESCRIPTION:Step through the mist into Rainforest Falls\, overflowing with wild waterfalls\, towering trees\, and colorful creatures. Beneath a canopy of chattering birds and howling monkeys\, kids plunge into a life-long adventure\, discovering the nature of God and exploring what it means to be rooted in a relationship with their creator\, a safe pace in life’s storms. \nClick here to register your child or volunteer: ccc-info.org/vbs26
URL:https://christchurchcranbrook.org/event/vacation-bible-school-2026/
LOCATION:Christ Church Cranbrook\, 470 Church Road\, Bloomfield Hills\, MI\, 48304\, United States
CATEGORIES:Children & Families
ATTACH;FMTTYPE=image/png:https://christchurchcranbrook.org/wp-content/uploads/2026/01/WEB-169-Website-26.png
END:VEVENT
BEGIN:VEVENT
DTSTART;VALUE=DATE:20260712
DTEND;VALUE=DATE:20260718
DTSTAMP:20260420T202026
CREATED:20260223T190914Z
LAST-MODIFIED:20260323T171530Z
UID:21502-1783814400-1784332799@christchurchcranbrook.org
SUMMARY:Summer Camp for 3rd-12th Graders
DESCRIPTION:Summer Camp for Everyone REGISTRATION IS OPEN It is first-come\, first-served! We will travel up and back together as a church from July 13th- 17th (Week 5) All youth from 3rd-12th grade are invited for the whole week. 1st -3rd graders can come Monday through Thursday. 5th graders going into 6th can choose elementary or middle school. It’s all pricing this year; you can choose your cost. There is also Counselor in Training weeks and Bridge Builders which focuses on Racial reconciliation also a special camp for kids in the LGBTQ community \nRegister Here – https://ccc-info.org/summercamp
URL:https://christchurchcranbrook.org/event/summer-camp-for-3rd-12th-graders/
LOCATION:Christ Church Cranbrook\, 470 Church Road\, Bloomfield Hills\, MI\, 48304\, United States
CATEGORIES:Children & Families,Youth Ministry
ATTACH;FMTTYPE=image/png:https://christchurchcranbrook.org/wp-content/uploads/2026/02/WEB-1200-x-800-px-updated-30.png
END:VEVENT
BEGIN:VEVENT
DTSTART;TZID=America/Detroit:20260817T120000
DTEND;TZID=America/Detroit:20260821T160000
DTSTAMP:20260420T202026
CREATED:20260122T151908Z
LAST-MODIFIED:20260122T151908Z
UID:21272-1786968000-1787328000@christchurchcranbrook.org
SUMMARY:Field Trip Camp
DESCRIPTION:Afternoon field trips to the Ann Arbor Hands-on Museum\, DNR Outdoor Center\, Howell Nature Center\, DIA\, and pizza making and swimming at Kellie’s. \nRegister here: ccc-info.org/fieldtrips
URL:https://christchurchcranbrook.org/event/field-trip-camp/2026-08-17/
LOCATION:Christ Church Cranbrook\, 470 Church Road\, Bloomfield Hills\, MI\, 48304\, United States
CATEGORIES:Children & Families
ATTACH;FMTTYPE=image/png:https://christchurchcranbrook.org/wp-content/uploads/2026/01/WEB-169-Website-30.png
END:VEVENT
BEGIN:VEVENT
DTSTART;TZID=America/Detroit:20260818T120000
DTEND;TZID=America/Detroit:20260822T160000
DTSTAMP:20260420T202026
CREATED:20260122T151908Z
LAST-MODIFIED:20260122T151908Z
UID:21275-1787054400-1787414400@christchurchcranbrook.org
SUMMARY:Field Trip Camp
DESCRIPTION:Afternoon field trips to the Ann Arbor Hands-on Museum\, DNR Outdoor Center\, Howell Nature Center\, DIA\, and pizza making and swimming at Kellie’s. \nRegister here: ccc-info.org/fieldtrips
URL:https://christchurchcranbrook.org/event/field-trip-camp/2026-08-18/
LOCATION:Christ Church Cranbrook\, 470 Church Road\, Bloomfield Hills\, MI\, 48304\, United States
CATEGORIES:Children & Families
ATTACH;FMTTYPE=image/png:https://christchurchcranbrook.org/wp-content/uploads/2026/01/WEB-169-Website-30.png
END:VEVENT
BEGIN:VEVENT
DTSTART;TZID=America/Detroit:20260819T120000
DTEND;TZID=America/Detroit:20260823T160000
DTSTAMP:20260420T202026
CREATED:20260122T151908Z
LAST-MODIFIED:20260122T151908Z
UID:21276-1787140800-1787500800@christchurchcranbrook.org
SUMMARY:Field Trip Camp
DESCRIPTION:Afternoon field trips to the Ann Arbor Hands-on Museum\, DNR Outdoor Center\, Howell Nature Center\, DIA\, and pizza making and swimming at Kellie’s. \nRegister here: ccc-info.org/fieldtrips
URL:https://christchurchcranbrook.org/event/field-trip-camp/2026-08-19/
LOCATION:Christ Church Cranbrook\, 470 Church Road\, Bloomfield Hills\, MI\, 48304\, United States
CATEGORIES:Children & Families
ATTACH;FMTTYPE=image/png:https://christchurchcranbrook.org/wp-content/uploads/2026/01/WEB-169-Website-30.png
END:VEVENT
BEGIN:VEVENT
DTSTART;TZID=America/Detroit:20260820T120000
DTEND;TZID=America/Detroit:20260824T160000
DTSTAMP:20260420T202026
CREATED:20260122T151908Z
LAST-MODIFIED:20260122T151908Z
UID:21277-1787227200-1787587200@christchurchcranbrook.org
SUMMARY:Field Trip Camp
DESCRIPTION:Afternoon field trips to the Ann Arbor Hands-on Museum\, DNR Outdoor Center\, Howell Nature Center\, DIA\, and pizza making and swimming at Kellie’s. \nRegister here: ccc-info.org/fieldtrips
URL:https://christchurchcranbrook.org/event/field-trip-camp/2026-08-20/
LOCATION:Christ Church Cranbrook\, 470 Church Road\, Bloomfield Hills\, MI\, 48304\, United States
CATEGORIES:Children & Families
ATTACH;FMTTYPE=image/png:https://christchurchcranbrook.org/wp-content/uploads/2026/01/WEB-169-Website-30.png
END:VEVENT
BEGIN:VEVENT
DTSTART;TZID=America/Detroit:20260821T120000
DTEND;TZID=America/Detroit:20260825T160000
DTSTAMP:20260420T202026
CREATED:20260122T151908Z
LAST-MODIFIED:20260122T151908Z
UID:21278-1787313600-1787673600@christchurchcranbrook.org
SUMMARY:Field Trip Camp
DESCRIPTION:Afternoon field trips to the Ann Arbor Hands-on Museum\, DNR Outdoor Center\, Howell Nature Center\, DIA\, and pizza making and swimming at Kellie’s. \nRegister here: ccc-info.org/fieldtrips
URL:https://christchurchcranbrook.org/event/field-trip-camp/2026-08-21/
LOCATION:Christ Church Cranbrook\, 470 Church Road\, Bloomfield Hills\, MI\, 48304\, United States
CATEGORIES:Children & Families
ATTACH;FMTTYPE=image/png:https://christchurchcranbrook.org/wp-content/uploads/2026/01/WEB-169-Website-30.png
END:VEVENT
END:VCALENDAR