﻿BEGIN:VCALENDAR
VERSION:2.0
PRODID:-//CCC - ECPv6.15.17.1//NONSGML v1.0//EN
CALSCALE:GREGORIAN
METHOD:PUBLISH
X-WR-CALNAME:CCC
X-ORIGINAL-URL:https://christchurchcranbrook.org
X-WR-CALDESC:Events for CCC
REFRESH-INTERVAL;VALUE=DURATION:PT1H
X-Robots-Tag:noindex
X-PUBLISHED-TTL:PT1H
BEGIN:VTIMEZONE
TZID:America/Detroit
BEGIN:DAYLIGHT
TZOFFSETFROM:-0500
TZOFFSETTO:-0400
TZNAME:EDT
DTSTART:20250309T070000
END:DAYLIGHT
BEGIN:STANDARD
TZOFFSETFROM:-0400
TZOFFSETTO:-0500
TZNAME:EST
DTSTART:20251102T060000
END:STANDARD
BEGIN:DAYLIGHT
TZOFFSETFROM:-0500
TZOFFSETTO:-0400
TZNAME:EDT
DTSTART:20260308T070000
END:DAYLIGHT
BEGIN:STANDARD
TZOFFSETFROM:-0400
TZOFFSETTO:-0500
TZNAME:EST
DTSTART:20261101T060000
END:STANDARD
BEGIN:DAYLIGHT
TZOFFSETFROM:-0500
TZOFFSETTO:-0400
TZNAME:EDT
DTSTART:20270314T070000
END:DAYLIGHT
BEGIN:STANDARD
TZOFFSETFROM:-0400
TZOFFSETTO:-0500
TZNAME:EST
DTSTART:20271107T060000
END:STANDARD
END:VTIMEZONE
BEGIN:VEVENT
DTSTART;VALUE=DATE:20260430
DTEND;VALUE=DATE:20260501
DTSTAMP:20260419T152449
CREATED:20260408T162125Z
LAST-MODIFIED:20260408T162125Z
UID:21792-1777507200-1777593599@christchurchcranbrook.org
SUMMARY:Item of the Month - April
DESCRIPTION:We are collecting incontinence briefs to help The Baldwin Center distribute adult disposable underwear to low-income neighbors in need of support. Items can be purchased online and sent to the church directly or dropped off in the Narthex\, Guild Hall\, or outside of St. Dunstan’s. \nClick here to view the shopping list.
URL:https://christchurchcranbrook.org/event/item-of-the-month-april/
LOCATION:Christ Church Cranbrook\, 470 Church Road\, Bloomfield Hills\, MI\, 48304\, United States
CATEGORIES:IOTM
ATTACH;FMTTYPE=image/jpeg:https://christchurchcranbrook.org/wp-content/uploads/2026/04/WEB-1200-x-800-px-updated.jpg
END:VEVENT
END:VCALENDAR