﻿BEGIN:VCALENDAR
VERSION:2.0
PRODID:-//CCC - ECPv6.15.17.1//NONSGML v1.0//EN
CALSCALE:GREGORIAN
METHOD:PUBLISH
X-WR-CALNAME:CCC
X-ORIGINAL-URL:https://christchurchcranbrook.org
X-WR-CALDESC:Events for CCC
REFRESH-INTERVAL;VALUE=DURATION:PT1H
X-Robots-Tag:noindex
X-PUBLISHED-TTL:PT1H
BEGIN:VTIMEZONE
TZID:America/Detroit
BEGIN:DAYLIGHT
TZOFFSETFROM:-0500
TZOFFSETTO:-0400
TZNAME:EDT
DTSTART:20250309T070000
END:DAYLIGHT
BEGIN:STANDARD
TZOFFSETFROM:-0400
TZOFFSETTO:-0500
TZNAME:EST
DTSTART:20251102T060000
END:STANDARD
BEGIN:DAYLIGHT
TZOFFSETFROM:-0500
TZOFFSETTO:-0400
TZNAME:EDT
DTSTART:20260308T070000
END:DAYLIGHT
BEGIN:STANDARD
TZOFFSETFROM:-0400
TZOFFSETTO:-0500
TZNAME:EST
DTSTART:20261101T060000
END:STANDARD
BEGIN:DAYLIGHT
TZOFFSETFROM:-0500
TZOFFSETTO:-0400
TZNAME:EDT
DTSTART:20270314T070000
END:DAYLIGHT
BEGIN:STANDARD
TZOFFSETFROM:-0400
TZOFFSETTO:-0500
TZNAME:EST
DTSTART:20271107T060000
END:STANDARD
END:VTIMEZONE
BEGIN:VEVENT
DTSTART;TZID=America/Detroit:20260712T100000
DTEND;TZID=America/Detroit:20260712T110000
DTSTAMP:20260419T131842
CREATED:20200427T124320Z
LAST-MODIFIED:20260310T143626Z
UID:20271-1783850400-1783854000@christchurchcranbrook.org
SUMMARY:10 AM Sunday Service (Online & In-person)
DESCRIPTION:Join us for our Service of the Word live-stream and in-person in the sanctuary. \nVisit cccathome.org to worship from home with readings\, a sermon\, and music.
URL:https://christchurchcranbrook.org/event/sunday-morning-worship-virtual/2026-07-12/
LOCATION:Christ Church Cranbrook\, 470 Church Road\, Bloomfield Hills\, MI\, 48304\, United States
CATEGORIES:Worship Services
ATTACH;FMTTYPE=image/png:https://christchurchcranbrook.org/wp-content/uploads/2020/04/WEB-169-Website-24.png
END:VEVENT
BEGIN:VEVENT
DTSTART;TZID=America/Detroit:20260712T113000
DTEND;TZID=America/Detroit:20260712T123000
DTSTAMP:20260419T131842
CREATED:20230314T175425Z
LAST-MODIFIED:20260311T190753Z
UID:20272-1783855800-1783859400@christchurchcranbrook.org
SUMMARY:In Need of Prayers?
DESCRIPTION:If you are in need of prayers\, we hope that you will join Pastor Manisha and Pastor Joyce in St. Paul’s Chapel after the 10 AM service as they pray with anyone who needs it! \nQuestions? Email Pastor Manisha at mdostert@christchurchcranbrook.org
URL:https://christchurchcranbrook.org/event/in-need-of-prayers/2026-07-12/
LOCATION:Christ Church Cranbrook\, 470 Church Road\, Bloomfield Hills\, MI\, 48304\, United States
CATEGORIES:Pastoral Care,Worship Services
ATTACH;FMTTYPE=image/png:https://christchurchcranbrook.org/wp-content/uploads/2023/03/WEB-169-Website-23.png
END:VEVENT
BEGIN:VEVENT
DTSTART;TZID=America/Detroit:20260718T170000
DTEND;TZID=America/Detroit:20260718T180000
DTSTAMP:20260419T131842
CREATED:20200427T132518Z
LAST-MODIFIED:20260311T155226Z
UID:20277-1784394000-1784397600@christchurchcranbrook.org
SUMMARY:5 PM Saturday Service
DESCRIPTION:Join us for worship with eucharist in the main church. \n 
URL:https://christchurchcranbrook.org/event/saturday-evening-worship-virtual/2026-07-18/
LOCATION:Christ Church Cranbrook\, 470 Church Road\, Bloomfield Hills\, MI\, 48304\, United States
CATEGORIES:Worship Services
ATTACH;FMTTYPE=image/png:https://christchurchcranbrook.org/wp-content/uploads/2020/04/Untitled-1200-x-675-px.png
END:VEVENT
BEGIN:VEVENT
DTSTART;TZID=America/Detroit:20260719T100000
DTEND;TZID=America/Detroit:20260719T110000
DTSTAMP:20260419T131842
CREATED:20200427T124320Z
LAST-MODIFIED:20260310T143626Z
UID:20278-1784455200-1784458800@christchurchcranbrook.org
SUMMARY:10 AM Sunday Service (Online & In-person)
DESCRIPTION:Join us for our Service of the Word live-stream and in-person in the sanctuary. \nVisit cccathome.org to worship from home with readings\, a sermon\, and music.
URL:https://christchurchcranbrook.org/event/sunday-morning-worship-virtual/2026-07-19/
LOCATION:Christ Church Cranbrook\, 470 Church Road\, Bloomfield Hills\, MI\, 48304\, United States
CATEGORIES:Worship Services
ATTACH;FMTTYPE=image/png:https://christchurchcranbrook.org/wp-content/uploads/2020/04/WEB-169-Website-24.png
END:VEVENT
BEGIN:VEVENT
DTSTART;TZID=America/Detroit:20260719T113000
DTEND;TZID=America/Detroit:20260719T123000
DTSTAMP:20260419T131842
CREATED:20230314T175425Z
LAST-MODIFIED:20260311T190754Z
UID:20279-1784460600-1784464200@christchurchcranbrook.org
SUMMARY:In Need of Prayers?
DESCRIPTION:If you are in need of prayers\, we hope that you will join Pastor Manisha and Pastor Joyce in St. Paul’s Chapel after the 10 AM service as they pray with anyone who needs it! \nQuestions? Email Pastor Manisha at mdostert@christchurchcranbrook.org
URL:https://christchurchcranbrook.org/event/in-need-of-prayers/2026-07-19/
LOCATION:Christ Church Cranbrook\, 470 Church Road\, Bloomfield Hills\, MI\, 48304\, United States
CATEGORIES:Pastoral Care,Worship Services
ATTACH;FMTTYPE=image/png:https://christchurchcranbrook.org/wp-content/uploads/2023/03/WEB-169-Website-23.png
END:VEVENT
BEGIN:VEVENT
DTSTART;TZID=America/Detroit:20260725T170000
DTEND;TZID=America/Detroit:20260725T180000
DTSTAMP:20260419T131842
CREATED:20200427T132518Z
LAST-MODIFIED:20260311T155227Z
UID:20293-1784998800-1785002400@christchurchcranbrook.org
SUMMARY:5 PM Saturday Service
DESCRIPTION:Join us for worship with eucharist in the main church. \n 
URL:https://christchurchcranbrook.org/event/saturday-evening-worship-virtual/2026-07-25/
LOCATION:Christ Church Cranbrook\, 470 Church Road\, Bloomfield Hills\, MI\, 48304\, United States
CATEGORIES:Worship Services
ATTACH;FMTTYPE=image/png:https://christchurchcranbrook.org/wp-content/uploads/2020/04/Untitled-1200-x-675-px.png
END:VEVENT
BEGIN:VEVENT
DTSTART;TZID=America/Detroit:20260726T100000
DTEND;TZID=America/Detroit:20260726T110000
DTSTAMP:20260419T131842
CREATED:20200427T124320Z
LAST-MODIFIED:20260310T143627Z
UID:20294-1785060000-1785063600@christchurchcranbrook.org
SUMMARY:10 AM Sunday Service (Online & In-person)
DESCRIPTION:Join us for our Service of the Word live-stream and in-person in the sanctuary. \nVisit cccathome.org to worship from home with readings\, a sermon\, and music.
URL:https://christchurchcranbrook.org/event/sunday-morning-worship-virtual/2026-07-26/
LOCATION:Christ Church Cranbrook\, 470 Church Road\, Bloomfield Hills\, MI\, 48304\, United States
CATEGORIES:Worship Services
ATTACH;FMTTYPE=image/png:https://christchurchcranbrook.org/wp-content/uploads/2020/04/WEB-169-Website-24.png
END:VEVENT
BEGIN:VEVENT
DTSTART;TZID=America/Detroit:20260726T113000
DTEND;TZID=America/Detroit:20260726T123000
DTSTAMP:20260419T131842
CREATED:20230314T175425Z
LAST-MODIFIED:20260311T190754Z
UID:20295-1785065400-1785069000@christchurchcranbrook.org
SUMMARY:In Need of Prayers?
DESCRIPTION:If you are in need of prayers\, we hope that you will join Pastor Manisha and Pastor Joyce in St. Paul’s Chapel after the 10 AM service as they pray with anyone who needs it! \nQuestions? Email Pastor Manisha at mdostert@christchurchcranbrook.org
URL:https://christchurchcranbrook.org/event/in-need-of-prayers/2026-07-26/
LOCATION:Christ Church Cranbrook\, 470 Church Road\, Bloomfield Hills\, MI\, 48304\, United States
CATEGORIES:Pastoral Care,Worship Services
ATTACH;FMTTYPE=image/png:https://christchurchcranbrook.org/wp-content/uploads/2023/03/WEB-169-Website-23.png
END:VEVENT
BEGIN:VEVENT
DTSTART;TZID=America/Detroit:20260801T170000
DTEND;TZID=America/Detroit:20260801T180000
DTSTAMP:20260419T131842
CREATED:20200427T132518Z
LAST-MODIFIED:20260311T155227Z
UID:20298-1785603600-1785607200@christchurchcranbrook.org
SUMMARY:5 PM Saturday Service
DESCRIPTION:Join us for worship with eucharist in the main church. \n 
URL:https://christchurchcranbrook.org/event/saturday-evening-worship-virtual/2026-08-01/
LOCATION:Christ Church Cranbrook\, 470 Church Road\, Bloomfield Hills\, MI\, 48304\, United States
CATEGORIES:Worship Services
ATTACH;FMTTYPE=image/png:https://christchurchcranbrook.org/wp-content/uploads/2020/04/Untitled-1200-x-675-px.png
END:VEVENT
BEGIN:VEVENT
DTSTART;TZID=America/Detroit:20260802T100000
DTEND;TZID=America/Detroit:20260802T110000
DTSTAMP:20260419T131842
CREATED:20200427T124320Z
LAST-MODIFIED:20260310T143627Z
UID:20300-1785664800-1785668400@christchurchcranbrook.org
SUMMARY:10 AM Sunday Service (Online & In-person)
DESCRIPTION:Join us for our Service of the Word live-stream and in-person in the sanctuary. \nVisit cccathome.org to worship from home with readings\, a sermon\, and music.
URL:https://christchurchcranbrook.org/event/sunday-morning-worship-virtual/2026-08-02/
LOCATION:Christ Church Cranbrook\, 470 Church Road\, Bloomfield Hills\, MI\, 48304\, United States
CATEGORIES:Worship Services
ATTACH;FMTTYPE=image/png:https://christchurchcranbrook.org/wp-content/uploads/2020/04/WEB-169-Website-24.png
END:VEVENT
BEGIN:VEVENT
DTSTART;TZID=America/Detroit:20260802T113000
DTEND;TZID=America/Detroit:20260802T123000
DTSTAMP:20260419T131842
CREATED:20230314T175425Z
LAST-MODIFIED:20260311T190754Z
UID:20301-1785670200-1785673800@christchurchcranbrook.org
SUMMARY:In Need of Prayers?
DESCRIPTION:If you are in need of prayers\, we hope that you will join Pastor Manisha and Pastor Joyce in St. Paul’s Chapel after the 10 AM service as they pray with anyone who needs it! \nQuestions? Email Pastor Manisha at mdostert@christchurchcranbrook.org
URL:https://christchurchcranbrook.org/event/in-need-of-prayers/2026-08-02/
LOCATION:Christ Church Cranbrook\, 470 Church Road\, Bloomfield Hills\, MI\, 48304\, United States
CATEGORIES:Pastoral Care,Worship Services
ATTACH;FMTTYPE=image/png:https://christchurchcranbrook.org/wp-content/uploads/2023/03/WEB-169-Website-23.png
END:VEVENT
BEGIN:VEVENT
DTSTART;TZID=America/Detroit:20260808T170000
DTEND;TZID=America/Detroit:20260808T180000
DTSTAMP:20260419T131842
CREATED:20200427T132518Z
LAST-MODIFIED:20260311T155227Z
UID:20306-1786208400-1786212000@christchurchcranbrook.org
SUMMARY:5 PM Saturday Service
DESCRIPTION:Join us for worship with eucharist in the main church. \n 
URL:https://christchurchcranbrook.org/event/saturday-evening-worship-virtual/2026-08-08/
LOCATION:Christ Church Cranbrook\, 470 Church Road\, Bloomfield Hills\, MI\, 48304\, United States
CATEGORIES:Worship Services
ATTACH;FMTTYPE=image/png:https://christchurchcranbrook.org/wp-content/uploads/2020/04/Untitled-1200-x-675-px.png
END:VEVENT
BEGIN:VEVENT
DTSTART;TZID=America/Detroit:20260809T100000
DTEND;TZID=America/Detroit:20260809T110000
DTSTAMP:20260419T131842
CREATED:20200427T124320Z
LAST-MODIFIED:20260310T143627Z
UID:20307-1786269600-1786273200@christchurchcranbrook.org
SUMMARY:10 AM Sunday Service (Online & In-person)
DESCRIPTION:Join us for our Service of the Word live-stream and in-person in the sanctuary. \nVisit cccathome.org to worship from home with readings\, a sermon\, and music.
URL:https://christchurchcranbrook.org/event/sunday-morning-worship-virtual/2026-08-09/
LOCATION:Christ Church Cranbrook\, 470 Church Road\, Bloomfield Hills\, MI\, 48304\, United States
CATEGORIES:Worship Services
ATTACH;FMTTYPE=image/png:https://christchurchcranbrook.org/wp-content/uploads/2020/04/WEB-169-Website-24.png
END:VEVENT
BEGIN:VEVENT
DTSTART;TZID=America/Detroit:20260809T113000
DTEND;TZID=America/Detroit:20260809T123000
DTSTAMP:20260419T131842
CREATED:20230314T175425Z
LAST-MODIFIED:20260311T190755Z
UID:20308-1786275000-1786278600@christchurchcranbrook.org
SUMMARY:In Need of Prayers?
DESCRIPTION:If you are in need of prayers\, we hope that you will join Pastor Manisha and Pastor Joyce in St. Paul’s Chapel after the 10 AM service as they pray with anyone who needs it! \nQuestions? Email Pastor Manisha at mdostert@christchurchcranbrook.org
URL:https://christchurchcranbrook.org/event/in-need-of-prayers/2026-08-09/
LOCATION:Christ Church Cranbrook\, 470 Church Road\, Bloomfield Hills\, MI\, 48304\, United States
CATEGORIES:Pastoral Care,Worship Services
ATTACH;FMTTYPE=image/png:https://christchurchcranbrook.org/wp-content/uploads/2023/03/WEB-169-Website-23.png
END:VEVENT
BEGIN:VEVENT
DTSTART;TZID=America/Detroit:20260815T170000
DTEND;TZID=America/Detroit:20260815T180000
DTSTAMP:20260419T131842
CREATED:20200427T132518Z
LAST-MODIFIED:20260311T155228Z
UID:20342-1786813200-1786816800@christchurchcranbrook.org
SUMMARY:5 PM Saturday Service
DESCRIPTION:Join us for worship with eucharist in the main church. \n 
URL:https://christchurchcranbrook.org/event/saturday-evening-worship-virtual/2026-08-15/
LOCATION:Christ Church Cranbrook\, 470 Church Road\, Bloomfield Hills\, MI\, 48304\, United States
CATEGORIES:Worship Services
ATTACH;FMTTYPE=image/png:https://christchurchcranbrook.org/wp-content/uploads/2020/04/Untitled-1200-x-675-px.png
END:VEVENT
BEGIN:VEVENT
DTSTART;TZID=America/Detroit:20260816T100000
DTEND;TZID=America/Detroit:20260816T110000
DTSTAMP:20260419T131842
CREATED:20200427T124320Z
LAST-MODIFIED:20260310T143632Z
UID:20343-1786874400-1786878000@christchurchcranbrook.org
SUMMARY:10 AM Sunday Service (Online & In-person)
DESCRIPTION:Join us for our Service of the Word live-stream and in-person in the sanctuary. \nVisit cccathome.org to worship from home with readings\, a sermon\, and music.
URL:https://christchurchcranbrook.org/event/sunday-morning-worship-virtual/2026-08-16/
LOCATION:Christ Church Cranbrook\, 470 Church Road\, Bloomfield Hills\, MI\, 48304\, United States
CATEGORIES:Worship Services
ATTACH;FMTTYPE=image/png:https://christchurchcranbrook.org/wp-content/uploads/2020/04/WEB-169-Website-24.png
END:VEVENT
BEGIN:VEVENT
DTSTART;TZID=America/Detroit:20260816T113000
DTEND;TZID=America/Detroit:20260816T123000
DTSTAMP:20260419T131842
CREATED:20230314T175425Z
LAST-MODIFIED:20260311T190755Z
UID:20344-1786879800-1786883400@christchurchcranbrook.org
SUMMARY:In Need of Prayers?
DESCRIPTION:If you are in need of prayers\, we hope that you will join Pastor Manisha and Pastor Joyce in St. Paul’s Chapel after the 10 AM service as they pray with anyone who needs it! \nQuestions? Email Pastor Manisha at mdostert@christchurchcranbrook.org
URL:https://christchurchcranbrook.org/event/in-need-of-prayers/2026-08-16/
LOCATION:Christ Church Cranbrook\, 470 Church Road\, Bloomfield Hills\, MI\, 48304\, United States
CATEGORIES:Pastoral Care,Worship Services
ATTACH;FMTTYPE=image/png:https://christchurchcranbrook.org/wp-content/uploads/2023/03/WEB-169-Website-23.png
END:VEVENT
BEGIN:VEVENT
DTSTART;TZID=America/Detroit:20260822T170000
DTEND;TZID=America/Detroit:20260822T180000
DTSTAMP:20260419T131842
CREATED:20200427T132518Z
LAST-MODIFIED:20260311T155229Z
UID:20346-1787418000-1787421600@christchurchcranbrook.org
SUMMARY:5 PM Saturday Service
DESCRIPTION:Join us for worship with eucharist in the main church. \n 
URL:https://christchurchcranbrook.org/event/saturday-evening-worship-virtual/2026-08-22/
LOCATION:Christ Church Cranbrook\, 470 Church Road\, Bloomfield Hills\, MI\, 48304\, United States
CATEGORIES:Worship Services
ATTACH;FMTTYPE=image/png:https://christchurchcranbrook.org/wp-content/uploads/2020/04/Untitled-1200-x-675-px.png
END:VEVENT
BEGIN:VEVENT
DTSTART;TZID=America/Detroit:20260823T100000
DTEND;TZID=America/Detroit:20260823T110000
DTSTAMP:20260419T131842
CREATED:20200427T124320Z
LAST-MODIFIED:20260310T143633Z
UID:20347-1787479200-1787482800@christchurchcranbrook.org
SUMMARY:10 AM Sunday Service (Online & In-person)
DESCRIPTION:Join us for our Service of the Word live-stream and in-person in the sanctuary. \nVisit cccathome.org to worship from home with readings\, a sermon\, and music.
URL:https://christchurchcranbrook.org/event/sunday-morning-worship-virtual/2026-08-23/
LOCATION:Christ Church Cranbrook\, 470 Church Road\, Bloomfield Hills\, MI\, 48304\, United States
CATEGORIES:Worship Services
ATTACH;FMTTYPE=image/png:https://christchurchcranbrook.org/wp-content/uploads/2020/04/WEB-169-Website-24.png
END:VEVENT
BEGIN:VEVENT
DTSTART;TZID=America/Detroit:20260823T113000
DTEND;TZID=America/Detroit:20260823T123000
DTSTAMP:20260419T131842
CREATED:20230314T175425Z
LAST-MODIFIED:20260311T190755Z
UID:20348-1787484600-1787488200@christchurchcranbrook.org
SUMMARY:In Need of Prayers?
DESCRIPTION:If you are in need of prayers\, we hope that you will join Pastor Manisha and Pastor Joyce in St. Paul’s Chapel after the 10 AM service as they pray with anyone who needs it! \nQuestions? Email Pastor Manisha at mdostert@christchurchcranbrook.org
URL:https://christchurchcranbrook.org/event/in-need-of-prayers/2026-08-23/
LOCATION:Christ Church Cranbrook\, 470 Church Road\, Bloomfield Hills\, MI\, 48304\, United States
CATEGORIES:Pastoral Care,Worship Services
ATTACH;FMTTYPE=image/png:https://christchurchcranbrook.org/wp-content/uploads/2023/03/WEB-169-Website-23.png
END:VEVENT
BEGIN:VEVENT
DTSTART;TZID=America/Detroit:20260829T170000
DTEND;TZID=America/Detroit:20260829T180000
DTSTAMP:20260419T131842
CREATED:20200427T132518Z
LAST-MODIFIED:20260311T155229Z
UID:20364-1788022800-1788026400@christchurchcranbrook.org
SUMMARY:5 PM Saturday Service
DESCRIPTION:Join us for worship with eucharist in the main church. \n 
URL:https://christchurchcranbrook.org/event/saturday-evening-worship-virtual/2026-08-29/
LOCATION:Christ Church Cranbrook\, 470 Church Road\, Bloomfield Hills\, MI\, 48304\, United States
CATEGORIES:Worship Services
ATTACH;FMTTYPE=image/png:https://christchurchcranbrook.org/wp-content/uploads/2020/04/Untitled-1200-x-675-px.png
END:VEVENT
BEGIN:VEVENT
DTSTART;TZID=America/Detroit:20260830T100000
DTEND;TZID=America/Detroit:20260830T110000
DTSTAMP:20260419T131842
CREATED:20200427T124320Z
LAST-MODIFIED:20260310T143633Z
UID:20365-1788084000-1788087600@christchurchcranbrook.org
SUMMARY:10 AM Sunday Service (Online & In-person)
DESCRIPTION:Join us for our Service of the Word live-stream and in-person in the sanctuary. \nVisit cccathome.org to worship from home with readings\, a sermon\, and music.
URL:https://christchurchcranbrook.org/event/sunday-morning-worship-virtual/2026-08-30/
LOCATION:Christ Church Cranbrook\, 470 Church Road\, Bloomfield Hills\, MI\, 48304\, United States
CATEGORIES:Worship Services
ATTACH;FMTTYPE=image/png:https://christchurchcranbrook.org/wp-content/uploads/2020/04/WEB-169-Website-24.png
END:VEVENT
BEGIN:VEVENT
DTSTART;TZID=America/Detroit:20260830T113000
DTEND;TZID=America/Detroit:20260830T123000
DTSTAMP:20260419T131842
CREATED:20230314T175425Z
LAST-MODIFIED:20260311T190755Z
UID:20366-1788089400-1788093000@christchurchcranbrook.org
SUMMARY:In Need of Prayers?
DESCRIPTION:If you are in need of prayers\, we hope that you will join Pastor Manisha and Pastor Joyce in St. Paul’s Chapel after the 10 AM service as they pray with anyone who needs it! \nQuestions? Email Pastor Manisha at mdostert@christchurchcranbrook.org
URL:https://christchurchcranbrook.org/event/in-need-of-prayers/2026-08-30/
LOCATION:Christ Church Cranbrook\, 470 Church Road\, Bloomfield Hills\, MI\, 48304\, United States
CATEGORIES:Pastoral Care,Worship Services
ATTACH;FMTTYPE=image/png:https://christchurchcranbrook.org/wp-content/uploads/2023/03/WEB-169-Website-23.png
END:VEVENT
BEGIN:VEVENT
DTSTART;TZID=America/Detroit:20260905T170000
DTEND;TZID=America/Detroit:20260905T180000
DTSTAMP:20260419T131842
CREATED:20200427T132518Z
LAST-MODIFIED:20260311T155229Z
UID:20373-1788627600-1788631200@christchurchcranbrook.org
SUMMARY:5 PM Saturday Service
DESCRIPTION:Join us for worship with eucharist in the main church. \n 
URL:https://christchurchcranbrook.org/event/saturday-evening-worship-virtual/2026-09-05/
LOCATION:Christ Church Cranbrook\, 470 Church Road\, Bloomfield Hills\, MI\, 48304\, United States
CATEGORIES:Worship Services
ATTACH;FMTTYPE=image/png:https://christchurchcranbrook.org/wp-content/uploads/2020/04/Untitled-1200-x-675-px.png
END:VEVENT
BEGIN:VEVENT
DTSTART;TZID=America/Detroit:20260906T100000
DTEND;TZID=America/Detroit:20260906T110000
DTSTAMP:20260419T131842
CREATED:20200427T124320Z
LAST-MODIFIED:20260310T143633Z
UID:20374-1788688800-1788692400@christchurchcranbrook.org
SUMMARY:10 AM Sunday Service (Online & In-person)
DESCRIPTION:Join us for our Service of the Word live-stream and in-person in the sanctuary. \nVisit cccathome.org to worship from home with readings\, a sermon\, and music.
URL:https://christchurchcranbrook.org/event/sunday-morning-worship-virtual/2026-09-06/
LOCATION:Christ Church Cranbrook\, 470 Church Road\, Bloomfield Hills\, MI\, 48304\, United States
CATEGORIES:Worship Services
ATTACH;FMTTYPE=image/png:https://christchurchcranbrook.org/wp-content/uploads/2020/04/WEB-169-Website-24.png
END:VEVENT
BEGIN:VEVENT
DTSTART;TZID=America/Detroit:20260906T113000
DTEND;TZID=America/Detroit:20260906T123000
DTSTAMP:20260419T131842
CREATED:20230314T175425Z
LAST-MODIFIED:20260311T190755Z
UID:20375-1788694200-1788697800@christchurchcranbrook.org
SUMMARY:In Need of Prayers?
DESCRIPTION:If you are in need of prayers\, we hope that you will join Pastor Manisha and Pastor Joyce in St. Paul’s Chapel after the 10 AM service as they pray with anyone who needs it! \nQuestions? Email Pastor Manisha at mdostert@christchurchcranbrook.org
URL:https://christchurchcranbrook.org/event/in-need-of-prayers/2026-09-06/
LOCATION:Christ Church Cranbrook\, 470 Church Road\, Bloomfield Hills\, MI\, 48304\, United States
CATEGORIES:Pastoral Care,Worship Services
ATTACH;FMTTYPE=image/png:https://christchurchcranbrook.org/wp-content/uploads/2023/03/WEB-169-Website-23.png
END:VEVENT
BEGIN:VEVENT
DTSTART;TZID=America/Detroit:20260912T170000
DTEND;TZID=America/Detroit:20260912T180000
DTSTAMP:20260419T131842
CREATED:20200427T132518Z
LAST-MODIFIED:20260311T155229Z
UID:20440-1789232400-1789236000@christchurchcranbrook.org
SUMMARY:5 PM Saturday Service
DESCRIPTION:Join us for worship with eucharist in the main church. \n 
URL:https://christchurchcranbrook.org/event/saturday-evening-worship-virtual/2026-09-12/
LOCATION:Christ Church Cranbrook\, 470 Church Road\, Bloomfield Hills\, MI\, 48304\, United States
CATEGORIES:Worship Services
ATTACH;FMTTYPE=image/png:https://christchurchcranbrook.org/wp-content/uploads/2020/04/Untitled-1200-x-675-px.png
END:VEVENT
BEGIN:VEVENT
DTSTART;TZID=America/Detroit:20260913T100000
DTEND;TZID=America/Detroit:20260913T110000
DTSTAMP:20260419T131842
CREATED:20200427T124320Z
LAST-MODIFIED:20260310T143634Z
UID:20442-1789293600-1789297200@christchurchcranbrook.org
SUMMARY:10 AM Sunday Service (Online & In-person)
DESCRIPTION:Join us for our Service of the Word live-stream and in-person in the sanctuary. \nVisit cccathome.org to worship from home with readings\, a sermon\, and music.
URL:https://christchurchcranbrook.org/event/sunday-morning-worship-virtual/2026-09-13/
LOCATION:Christ Church Cranbrook\, 470 Church Road\, Bloomfield Hills\, MI\, 48304\, United States
CATEGORIES:Worship Services
ATTACH;FMTTYPE=image/png:https://christchurchcranbrook.org/wp-content/uploads/2020/04/WEB-169-Website-24.png
END:VEVENT
BEGIN:VEVENT
DTSTART;TZID=America/Detroit:20260913T113000
DTEND;TZID=America/Detroit:20260913T123000
DTSTAMP:20260419T131842
CREATED:20230314T175425Z
LAST-MODIFIED:20260311T190756Z
UID:20443-1789299000-1789302600@christchurchcranbrook.org
SUMMARY:In Need of Prayers?
DESCRIPTION:If you are in need of prayers\, we hope that you will join Pastor Manisha and Pastor Joyce in St. Paul’s Chapel after the 10 AM service as they pray with anyone who needs it! \nQuestions? Email Pastor Manisha at mdostert@christchurchcranbrook.org
URL:https://christchurchcranbrook.org/event/in-need-of-prayers/2026-09-13/
LOCATION:Christ Church Cranbrook\, 470 Church Road\, Bloomfield Hills\, MI\, 48304\, United States
CATEGORIES:Pastoral Care,Worship Services
ATTACH;FMTTYPE=image/png:https://christchurchcranbrook.org/wp-content/uploads/2023/03/WEB-169-Website-23.png
END:VEVENT
BEGIN:VEVENT
DTSTART;TZID=America/Detroit:20260919T170000
DTEND;TZID=America/Detroit:20260919T180000
DTSTAMP:20260419T131842
CREATED:20200427T132518Z
LAST-MODIFIED:20260311T155230Z
UID:20480-1789837200-1789840800@christchurchcranbrook.org
SUMMARY:5 PM Saturday Service
DESCRIPTION:Join us for worship with eucharist in the main church. \n 
URL:https://christchurchcranbrook.org/event/saturday-evening-worship-virtual/2026-09-19/
LOCATION:Christ Church Cranbrook\, 470 Church Road\, Bloomfield Hills\, MI\, 48304\, United States
CATEGORIES:Worship Services
ATTACH;FMTTYPE=image/png:https://christchurchcranbrook.org/wp-content/uploads/2020/04/Untitled-1200-x-675-px.png
END:VEVENT
END:VCALENDAR