﻿BEGIN:VCALENDAR
VERSION:2.0
PRODID:-//CCC - ECPv6.15.17.1//NONSGML v1.0//EN
CALSCALE:GREGORIAN
METHOD:PUBLISH
X-ORIGINAL-URL:https://christchurchcranbrook.org
X-WR-CALDESC:Events for CCC
REFRESH-INTERVAL;VALUE=DURATION:PT1H
X-Robots-Tag:noindex
X-PUBLISHED-TTL:PT1H
BEGIN:VTIMEZONE
TZID:America/Detroit
BEGIN:DAYLIGHT
TZOFFSETFROM:-0500
TZOFFSETTO:-0400
TZNAME:EDT
DTSTART:20250309T070000
END:DAYLIGHT
BEGIN:STANDARD
TZOFFSETFROM:-0400
TZOFFSETTO:-0500
TZNAME:EST
DTSTART:20251102T060000
END:STANDARD
BEGIN:DAYLIGHT
TZOFFSETFROM:-0500
TZOFFSETTO:-0400
TZNAME:EDT
DTSTART:20260308T070000
END:DAYLIGHT
BEGIN:STANDARD
TZOFFSETFROM:-0400
TZOFFSETTO:-0500
TZNAME:EST
DTSTART:20261101T060000
END:STANDARD
BEGIN:DAYLIGHT
TZOFFSETFROM:-0500
TZOFFSETTO:-0400
TZNAME:EDT
DTSTART:20270314T070000
END:DAYLIGHT
BEGIN:STANDARD
TZOFFSETFROM:-0400
TZOFFSETTO:-0500
TZNAME:EST
DTSTART:20271107T060000
END:STANDARD
END:VTIMEZONE
BEGIN:VEVENT
DTSTART;TZID=America/Detroit:20260607T113000
DTEND;TZID=America/Detroit:20260607T123000
DTSTAMP:20260421T135854
CREATED:20230314T175425Z
LAST-MODIFIED:20260311T190752Z
UID:20230-1780831800-1780835400@christchurchcranbrook.org
SUMMARY:In Need of Prayers?
DESCRIPTION:If you are in need of prayers\, we hope that you will join Pastor Manisha and Pastor Joyce in St. Paul’s Chapel after the 10 AM service as they pray with anyone who needs it! \nQuestions? Email Pastor Manisha at mdostert@christchurchcranbrook.org
URL:https://christchurchcranbrook.org/event/in-need-of-prayers/2026-06-07/
LOCATION:Christ Church Cranbrook\, 470 Church Road\, Bloomfield Hills\, MI\, 48304\, United States
CATEGORIES:Pastoral Care,Worship Services
ATTACH;FMTTYPE=image/png:https://christchurchcranbrook.org/wp-content/uploads/2023/03/WEB-169-Website-23.png
END:VEVENT
BEGIN:VEVENT
DTSTART;TZID=America/Detroit:20260608T080000
DTEND;TZID=America/Detroit:20260608T083000
DTSTAMP:20260421T135854
CREATED:20230626T185849Z
LAST-MODIFIED:20260421T154330Z
UID:22055-1780905600-1780907400@christchurchcranbrook.org
SUMMARY:Morning Prayer
DESCRIPTION:All are welcome to join us on weekday mornings for in-person communal Morning Prayer at 8 AM in St. Paul’s Chapel using the Book of Common Prayer. Come together with others to nurture a rhythm of daily prayer and a deeper connection to the Spirit by sharing in this ancient practice of communal prayer. \nOnline morning prayer is still available at 8:30 AM; click here!
URL:https://christchurchcranbrook.org/event/in-person-morning-prayer/2026-06-08/
LOCATION:Christ Church Cranbrook\, 470 Church Road\, Bloomfield Hills\, MI\, 48304\, United States
CATEGORIES:Worship Services
ATTACH;FMTTYPE=image/jpeg:https://christchurchcranbrook.org/wp-content/uploads/2023/06/WEB-1200-x-800-px-updated-21.jpg
END:VEVENT
BEGIN:VEVENT
DTSTART;TZID=America/Detroit:20260609T080000
DTEND;TZID=America/Detroit:20260609T083000
DTSTAMP:20260421T135854
CREATED:20230626T185849Z
LAST-MODIFIED:20260421T154331Z
UID:22056-1780992000-1780993800@christchurchcranbrook.org
SUMMARY:Morning Prayer
DESCRIPTION:All are welcome to join us on weekday mornings for in-person communal Morning Prayer at 8 AM in St. Paul’s Chapel using the Book of Common Prayer. Come together with others to nurture a rhythm of daily prayer and a deeper connection to the Spirit by sharing in this ancient practice of communal prayer. \nOnline morning prayer is still available at 8:30 AM; click here!
URL:https://christchurchcranbrook.org/event/in-person-morning-prayer/2026-06-09/
LOCATION:Christ Church Cranbrook\, 470 Church Road\, Bloomfield Hills\, MI\, 48304\, United States
CATEGORIES:Worship Services
ATTACH;FMTTYPE=image/jpeg:https://christchurchcranbrook.org/wp-content/uploads/2023/06/WEB-1200-x-800-px-updated-21.jpg
END:VEVENT
BEGIN:VEVENT
DTSTART;TZID=America/Detroit:20260610T080000
DTEND;TZID=America/Detroit:20260610T083000
DTSTAMP:20260421T135854
CREATED:20230626T185849Z
LAST-MODIFIED:20260421T154331Z
UID:22057-1781078400-1781080200@christchurchcranbrook.org
SUMMARY:Morning Prayer
DESCRIPTION:All are welcome to join us on weekday mornings for in-person communal Morning Prayer at 8 AM in St. Paul’s Chapel using the Book of Common Prayer. Come together with others to nurture a rhythm of daily prayer and a deeper connection to the Spirit by sharing in this ancient practice of communal prayer. \nOnline morning prayer is still available at 8:30 AM; click here!
URL:https://christchurchcranbrook.org/event/in-person-morning-prayer/2026-06-10/
LOCATION:Christ Church Cranbrook\, 470 Church Road\, Bloomfield Hills\, MI\, 48304\, United States
CATEGORIES:Worship Services
ATTACH;FMTTYPE=image/jpeg:https://christchurchcranbrook.org/wp-content/uploads/2023/06/WEB-1200-x-800-px-updated-21.jpg
END:VEVENT
BEGIN:VEVENT
DTSTART;TZID=America/Detroit:20260611T080000
DTEND;TZID=America/Detroit:20260611T083000
DTSTAMP:20260421T135854
CREATED:20230626T185849Z
LAST-MODIFIED:20260421T154331Z
UID:22058-1781164800-1781166600@christchurchcranbrook.org
SUMMARY:Morning Prayer
DESCRIPTION:All are welcome to join us on weekday mornings for in-person communal Morning Prayer at 8 AM in St. Paul’s Chapel using the Book of Common Prayer. Come together with others to nurture a rhythm of daily prayer and a deeper connection to the Spirit by sharing in this ancient practice of communal prayer. \nOnline morning prayer is still available at 8:30 AM; click here!
URL:https://christchurchcranbrook.org/event/in-person-morning-prayer/2026-06-11/
LOCATION:Christ Church Cranbrook\, 470 Church Road\, Bloomfield Hills\, MI\, 48304\, United States
CATEGORIES:Worship Services
ATTACH;FMTTYPE=image/jpeg:https://christchurchcranbrook.org/wp-content/uploads/2023/06/WEB-1200-x-800-px-updated-21.jpg
END:VEVENT
BEGIN:VEVENT
DTSTART;TZID=America/Detroit:20260612T080000
DTEND;TZID=America/Detroit:20260612T083000
DTSTAMP:20260421T135854
CREATED:20230626T185849Z
LAST-MODIFIED:20260421T154332Z
UID:22059-1781251200-1781253000@christchurchcranbrook.org
SUMMARY:Morning Prayer
DESCRIPTION:All are welcome to join us on weekday mornings for in-person communal Morning Prayer at 8 AM in St. Paul’s Chapel using the Book of Common Prayer. Come together with others to nurture a rhythm of daily prayer and a deeper connection to the Spirit by sharing in this ancient practice of communal prayer. \nOnline morning prayer is still available at 8:30 AM; click here!
URL:https://christchurchcranbrook.org/event/in-person-morning-prayer/2026-06-12/
LOCATION:Christ Church Cranbrook\, 470 Church Road\, Bloomfield Hills\, MI\, 48304\, United States
CATEGORIES:Worship Services
ATTACH;FMTTYPE=image/jpeg:https://christchurchcranbrook.org/wp-content/uploads/2023/06/WEB-1200-x-800-px-updated-21.jpg
END:VEVENT
BEGIN:VEVENT
DTSTART;TZID=America/Detroit:20260613T080000
DTEND;TZID=America/Detroit:20260613T083000
DTSTAMP:20260421T135854
CREATED:20230626T185849Z
LAST-MODIFIED:20230626T185849Z
UID:22324-1781337600-1781339400@christchurchcranbrook.org
SUMMARY:Morning Prayer
DESCRIPTION:All are welcome to join us on weekday mornings for in-person communal Morning Prayer at 8 AM in St. Paul’s Chapel using the Book of Common Prayer. Come together with others to nurture a rhythm of daily prayer and a deeper connection to the Spirit by sharing in this ancient practice of communal prayer. \nOnline morning prayer is still available at 8:30 AM; click here!
URL:https://christchurchcranbrook.org/event/in-person-morning-prayer/2026-06-13/
LOCATION:Christ Church Cranbrook\, 470 Church Road\, Bloomfield Hills\, MI\, 48304\, United States
CATEGORIES:Worship Services
ATTACH;FMTTYPE=image/jpeg:https://christchurchcranbrook.org/wp-content/uploads/2023/06/WEB-1200-x-800-px-updated-21.jpg
END:VEVENT
BEGIN:VEVENT
DTSTART;TZID=America/Detroit:20260613T170000
DTEND;TZID=America/Detroit:20260613T180000
DTSTAMP:20260421T135854
CREATED:20200427T132518Z
LAST-MODIFIED:20260311T155225Z
UID:20234-1781370000-1781373600@christchurchcranbrook.org
SUMMARY:5 PM Saturday Service
DESCRIPTION:Join us for worship with eucharist in the main church. \n 
URL:https://christchurchcranbrook.org/event/saturday-evening-worship-virtual/2026-06-13/
LOCATION:Christ Church Cranbrook\, 470 Church Road\, Bloomfield Hills\, MI\, 48304\, United States
CATEGORIES:Worship Services
ATTACH;FMTTYPE=image/png:https://christchurchcranbrook.org/wp-content/uploads/2020/04/Untitled-1200-x-675-px.png
END:VEVENT
BEGIN:VEVENT
DTSTART;TZID=America/Detroit:20260614T080000
DTEND;TZID=America/Detroit:20260614T083000
DTSTAMP:20260421T135854
CREATED:20230626T185849Z
LAST-MODIFIED:20230626T185849Z
UID:22325-1781424000-1781425800@christchurchcranbrook.org
SUMMARY:Morning Prayer
DESCRIPTION:All are welcome to join us on weekday mornings for in-person communal Morning Prayer at 8 AM in St. Paul’s Chapel using the Book of Common Prayer. Come together with others to nurture a rhythm of daily prayer and a deeper connection to the Spirit by sharing in this ancient practice of communal prayer. \nOnline morning prayer is still available at 8:30 AM; click here!
URL:https://christchurchcranbrook.org/event/in-person-morning-prayer/2026-06-14/
LOCATION:Christ Church Cranbrook\, 470 Church Road\, Bloomfield Hills\, MI\, 48304\, United States
CATEGORIES:Worship Services
ATTACH;FMTTYPE=image/jpeg:https://christchurchcranbrook.org/wp-content/uploads/2023/06/WEB-1200-x-800-px-updated-21.jpg
END:VEVENT
BEGIN:VEVENT
DTSTART;TZID=America/Detroit:20260614T100000
DTEND;TZID=America/Detroit:20260614T110000
DTSTAMP:20260421T135854
CREATED:20200427T124320Z
LAST-MODIFIED:20260310T143625Z
UID:20235-1781431200-1781434800@christchurchcranbrook.org
SUMMARY:10 AM Sunday Service (Online & In-person)
DESCRIPTION:Join us for our Service of the Word live-stream and in-person in the sanctuary. \nVisit cccathome.org to worship from home with readings\, a sermon\, and music.
URL:https://christchurchcranbrook.org/event/sunday-morning-worship-virtual/2026-06-14/
LOCATION:Christ Church Cranbrook\, 470 Church Road\, Bloomfield Hills\, MI\, 48304\, United States
CATEGORIES:Worship Services
ATTACH;FMTTYPE=image/png:https://christchurchcranbrook.org/wp-content/uploads/2020/04/WEB-169-Website-24.png
END:VEVENT
BEGIN:VEVENT
DTSTART;TZID=America/Detroit:20260614T113000
DTEND;TZID=America/Detroit:20260614T123000
DTSTAMP:20260421T135854
CREATED:20230314T175425Z
LAST-MODIFIED:20260311T190753Z
UID:20236-1781436600-1781440200@christchurchcranbrook.org
SUMMARY:In Need of Prayers?
DESCRIPTION:If you are in need of prayers\, we hope that you will join Pastor Manisha and Pastor Joyce in St. Paul’s Chapel after the 10 AM service as they pray with anyone who needs it! \nQuestions? Email Pastor Manisha at mdostert@christchurchcranbrook.org
URL:https://christchurchcranbrook.org/event/in-need-of-prayers/2026-06-14/
LOCATION:Christ Church Cranbrook\, 470 Church Road\, Bloomfield Hills\, MI\, 48304\, United States
CATEGORIES:Pastoral Care,Worship Services
ATTACH;FMTTYPE=image/png:https://christchurchcranbrook.org/wp-content/uploads/2023/03/WEB-169-Website-23.png
END:VEVENT
BEGIN:VEVENT
DTSTART;TZID=America/Detroit:20260615T080000
DTEND;TZID=America/Detroit:20260615T083000
DTSTAMP:20260421T135854
CREATED:20230626T185849Z
LAST-MODIFIED:20260421T154332Z
UID:22060-1781510400-1781512200@christchurchcranbrook.org
SUMMARY:Morning Prayer
DESCRIPTION:All are welcome to join us on weekday mornings for in-person communal Morning Prayer at 8 AM in St. Paul’s Chapel using the Book of Common Prayer. Come together with others to nurture a rhythm of daily prayer and a deeper connection to the Spirit by sharing in this ancient practice of communal prayer. \nOnline morning prayer is still available at 8:30 AM; click here!
URL:https://christchurchcranbrook.org/event/in-person-morning-prayer/2026-06-15/
LOCATION:Christ Church Cranbrook\, 470 Church Road\, Bloomfield Hills\, MI\, 48304\, United States
CATEGORIES:Worship Services
ATTACH;FMTTYPE=image/jpeg:https://christchurchcranbrook.org/wp-content/uploads/2023/06/WEB-1200-x-800-px-updated-21.jpg
END:VEVENT
BEGIN:VEVENT
DTSTART;TZID=America/Detroit:20260616T080000
DTEND;TZID=America/Detroit:20260616T083000
DTSTAMP:20260421T135854
CREATED:20230626T185849Z
LAST-MODIFIED:20260421T154332Z
UID:22061-1781596800-1781598600@christchurchcranbrook.org
SUMMARY:Morning Prayer
DESCRIPTION:All are welcome to join us on weekday mornings for in-person communal Morning Prayer at 8 AM in St. Paul’s Chapel using the Book of Common Prayer. Come together with others to nurture a rhythm of daily prayer and a deeper connection to the Spirit by sharing in this ancient practice of communal prayer. \nOnline morning prayer is still available at 8:30 AM; click here!
URL:https://christchurchcranbrook.org/event/in-person-morning-prayer/2026-06-16/
LOCATION:Christ Church Cranbrook\, 470 Church Road\, Bloomfield Hills\, MI\, 48304\, United States
CATEGORIES:Worship Services
ATTACH;FMTTYPE=image/jpeg:https://christchurchcranbrook.org/wp-content/uploads/2023/06/WEB-1200-x-800-px-updated-21.jpg
END:VEVENT
BEGIN:VEVENT
DTSTART;TZID=America/Detroit:20260617T080000
DTEND;TZID=America/Detroit:20260617T083000
DTSTAMP:20260421T135854
CREATED:20230626T185849Z
LAST-MODIFIED:20260421T154333Z
UID:22062-1781683200-1781685000@christchurchcranbrook.org
SUMMARY:Morning Prayer
DESCRIPTION:All are welcome to join us on weekday mornings for in-person communal Morning Prayer at 8 AM in St. Paul’s Chapel using the Book of Common Prayer. Come together with others to nurture a rhythm of daily prayer and a deeper connection to the Spirit by sharing in this ancient practice of communal prayer. \nOnline morning prayer is still available at 8:30 AM; click here!
URL:https://christchurchcranbrook.org/event/in-person-morning-prayer/2026-06-17/
LOCATION:Christ Church Cranbrook\, 470 Church Road\, Bloomfield Hills\, MI\, 48304\, United States
CATEGORIES:Worship Services
ATTACH;FMTTYPE=image/jpeg:https://christchurchcranbrook.org/wp-content/uploads/2023/06/WEB-1200-x-800-px-updated-21.jpg
END:VEVENT
BEGIN:VEVENT
DTSTART;TZID=America/Detroit:20260618T080000
DTEND;TZID=America/Detroit:20260618T083000
DTSTAMP:20260421T135854
CREATED:20230626T185849Z
LAST-MODIFIED:20260421T154333Z
UID:22063-1781769600-1781771400@christchurchcranbrook.org
SUMMARY:Morning Prayer
DESCRIPTION:All are welcome to join us on weekday mornings for in-person communal Morning Prayer at 8 AM in St. Paul’s Chapel using the Book of Common Prayer. Come together with others to nurture a rhythm of daily prayer and a deeper connection to the Spirit by sharing in this ancient practice of communal prayer. \nOnline morning prayer is still available at 8:30 AM; click here!
URL:https://christchurchcranbrook.org/event/in-person-morning-prayer/2026-06-18/
LOCATION:Christ Church Cranbrook\, 470 Church Road\, Bloomfield Hills\, MI\, 48304\, United States
CATEGORIES:Worship Services
ATTACH;FMTTYPE=image/jpeg:https://christchurchcranbrook.org/wp-content/uploads/2023/06/WEB-1200-x-800-px-updated-21.jpg
END:VEVENT
BEGIN:VEVENT
DTSTART;TZID=America/Detroit:20260619T080000
DTEND;TZID=America/Detroit:20260619T083000
DTSTAMP:20260421T135854
CREATED:20230626T185849Z
LAST-MODIFIED:20260421T154334Z
UID:22064-1781856000-1781857800@christchurchcranbrook.org
SUMMARY:Morning Prayer
DESCRIPTION:All are welcome to join us on weekday mornings for in-person communal Morning Prayer at 8 AM in St. Paul’s Chapel using the Book of Common Prayer. Come together with others to nurture a rhythm of daily prayer and a deeper connection to the Spirit by sharing in this ancient practice of communal prayer. \nOnline morning prayer is still available at 8:30 AM; click here!
URL:https://christchurchcranbrook.org/event/in-person-morning-prayer/2026-06-19/
LOCATION:Christ Church Cranbrook\, 470 Church Road\, Bloomfield Hills\, MI\, 48304\, United States
CATEGORIES:Worship Services
ATTACH;FMTTYPE=image/jpeg:https://christchurchcranbrook.org/wp-content/uploads/2023/06/WEB-1200-x-800-px-updated-21.jpg
END:VEVENT
BEGIN:VEVENT
DTSTART;TZID=America/Detroit:20260620T080000
DTEND;TZID=America/Detroit:20260620T083000
DTSTAMP:20260421T135854
CREATED:20230626T185849Z
LAST-MODIFIED:20230626T185849Z
UID:22326-1781942400-1781944200@christchurchcranbrook.org
SUMMARY:Morning Prayer
DESCRIPTION:All are welcome to join us on weekday mornings for in-person communal Morning Prayer at 8 AM in St. Paul’s Chapel using the Book of Common Prayer. Come together with others to nurture a rhythm of daily prayer and a deeper connection to the Spirit by sharing in this ancient practice of communal prayer. \nOnline morning prayer is still available at 8:30 AM; click here!
URL:https://christchurchcranbrook.org/event/in-person-morning-prayer/2026-06-20/
LOCATION:Christ Church Cranbrook\, 470 Church Road\, Bloomfield Hills\, MI\, 48304\, United States
CATEGORIES:Worship Services
ATTACH;FMTTYPE=image/jpeg:https://christchurchcranbrook.org/wp-content/uploads/2023/06/WEB-1200-x-800-px-updated-21.jpg
END:VEVENT
BEGIN:VEVENT
DTSTART;TZID=America/Detroit:20260620T170000
DTEND;TZID=America/Detroit:20260620T180000
DTSTAMP:20260421T135854
CREATED:20200427T132518Z
LAST-MODIFIED:20260311T155225Z
UID:20242-1781974800-1781978400@christchurchcranbrook.org
SUMMARY:5 PM Saturday Service
DESCRIPTION:Join us for worship with eucharist in the main church. \n 
URL:https://christchurchcranbrook.org/event/saturday-evening-worship-virtual/2026-06-20/
LOCATION:Christ Church Cranbrook\, 470 Church Road\, Bloomfield Hills\, MI\, 48304\, United States
CATEGORIES:Worship Services
ATTACH;FMTTYPE=image/png:https://christchurchcranbrook.org/wp-content/uploads/2020/04/Untitled-1200-x-675-px.png
END:VEVENT
BEGIN:VEVENT
DTSTART;TZID=America/Detroit:20260621T080000
DTEND;TZID=America/Detroit:20260621T083000
DTSTAMP:20260421T135854
CREATED:20230626T185849Z
LAST-MODIFIED:20230626T185849Z
UID:22327-1782028800-1782030600@christchurchcranbrook.org
SUMMARY:Morning Prayer
DESCRIPTION:All are welcome to join us on weekday mornings for in-person communal Morning Prayer at 8 AM in St. Paul’s Chapel using the Book of Common Prayer. Come together with others to nurture a rhythm of daily prayer and a deeper connection to the Spirit by sharing in this ancient practice of communal prayer. \nOnline morning prayer is still available at 8:30 AM; click here!
URL:https://christchurchcranbrook.org/event/in-person-morning-prayer/2026-06-21/
LOCATION:Christ Church Cranbrook\, 470 Church Road\, Bloomfield Hills\, MI\, 48304\, United States
CATEGORIES:Worship Services
ATTACH;FMTTYPE=image/jpeg:https://christchurchcranbrook.org/wp-content/uploads/2023/06/WEB-1200-x-800-px-updated-21.jpg
END:VEVENT
BEGIN:VEVENT
DTSTART;TZID=America/Detroit:20260621T100000
DTEND;TZID=America/Detroit:20260621T110000
DTSTAMP:20260421T135854
CREATED:20200427T124320Z
LAST-MODIFIED:20260310T143625Z
UID:20243-1782036000-1782039600@christchurchcranbrook.org
SUMMARY:10 AM Sunday Service (Online & In-person)
DESCRIPTION:Join us for our Service of the Word live-stream and in-person in the sanctuary. \nVisit cccathome.org to worship from home with readings\, a sermon\, and music.
URL:https://christchurchcranbrook.org/event/sunday-morning-worship-virtual/2026-06-21/
LOCATION:Christ Church Cranbrook\, 470 Church Road\, Bloomfield Hills\, MI\, 48304\, United States
CATEGORIES:Worship Services
ATTACH;FMTTYPE=image/png:https://christchurchcranbrook.org/wp-content/uploads/2020/04/WEB-169-Website-24.png
END:VEVENT
BEGIN:VEVENT
DTSTART;TZID=America/Detroit:20260621T113000
DTEND;TZID=America/Detroit:20260621T123000
DTSTAMP:20260421T135854
CREATED:20230314T175425Z
LAST-MODIFIED:20260311T190753Z
UID:20244-1782041400-1782045000@christchurchcranbrook.org
SUMMARY:In Need of Prayers?
DESCRIPTION:If you are in need of prayers\, we hope that you will join Pastor Manisha and Pastor Joyce in St. Paul’s Chapel after the 10 AM service as they pray with anyone who needs it! \nQuestions? Email Pastor Manisha at mdostert@christchurchcranbrook.org
URL:https://christchurchcranbrook.org/event/in-need-of-prayers/2026-06-21/
LOCATION:Christ Church Cranbrook\, 470 Church Road\, Bloomfield Hills\, MI\, 48304\, United States
CATEGORIES:Pastoral Care,Worship Services
ATTACH;FMTTYPE=image/png:https://christchurchcranbrook.org/wp-content/uploads/2023/03/WEB-169-Website-23.png
END:VEVENT
BEGIN:VEVENT
DTSTART;TZID=America/Detroit:20260622T080000
DTEND;TZID=America/Detroit:20260622T083000
DTSTAMP:20260421T135854
CREATED:20230626T185849Z
LAST-MODIFIED:20260421T154334Z
UID:22065-1782115200-1782117000@christchurchcranbrook.org
SUMMARY:Morning Prayer
DESCRIPTION:All are welcome to join us on weekday mornings for in-person communal Morning Prayer at 8 AM in St. Paul’s Chapel using the Book of Common Prayer. Come together with others to nurture a rhythm of daily prayer and a deeper connection to the Spirit by sharing in this ancient practice of communal prayer. \nOnline morning prayer is still available at 8:30 AM; click here!
URL:https://christchurchcranbrook.org/event/in-person-morning-prayer/2026-06-22/
LOCATION:Christ Church Cranbrook\, 470 Church Road\, Bloomfield Hills\, MI\, 48304\, United States
CATEGORIES:Worship Services
ATTACH;FMTTYPE=image/jpeg:https://christchurchcranbrook.org/wp-content/uploads/2023/06/WEB-1200-x-800-px-updated-21.jpg
END:VEVENT
BEGIN:VEVENT
DTSTART;TZID=America/Detroit:20260623T080000
DTEND;TZID=America/Detroit:20260623T083000
DTSTAMP:20260421T135854
CREATED:20230626T185849Z
LAST-MODIFIED:20260421T154334Z
UID:22066-1782201600-1782203400@christchurchcranbrook.org
SUMMARY:Morning Prayer
DESCRIPTION:All are welcome to join us on weekday mornings for in-person communal Morning Prayer at 8 AM in St. Paul’s Chapel using the Book of Common Prayer. Come together with others to nurture a rhythm of daily prayer and a deeper connection to the Spirit by sharing in this ancient practice of communal prayer. \nOnline morning prayer is still available at 8:30 AM; click here!
URL:https://christchurchcranbrook.org/event/in-person-morning-prayer/2026-06-23/
LOCATION:Christ Church Cranbrook\, 470 Church Road\, Bloomfield Hills\, MI\, 48304\, United States
CATEGORIES:Worship Services
ATTACH;FMTTYPE=image/jpeg:https://christchurchcranbrook.org/wp-content/uploads/2023/06/WEB-1200-x-800-px-updated-21.jpg
END:VEVENT
BEGIN:VEVENT
DTSTART;TZID=America/Detroit:20260624T080000
DTEND;TZID=America/Detroit:20260624T083000
DTSTAMP:20260421T135854
CREATED:20230626T185849Z
LAST-MODIFIED:20260421T154334Z
UID:22067-1782288000-1782289800@christchurchcranbrook.org
SUMMARY:Morning Prayer
DESCRIPTION:All are welcome to join us on weekday mornings for in-person communal Morning Prayer at 8 AM in St. Paul’s Chapel using the Book of Common Prayer. Come together with others to nurture a rhythm of daily prayer and a deeper connection to the Spirit by sharing in this ancient practice of communal prayer. \nOnline morning prayer is still available at 8:30 AM; click here!
URL:https://christchurchcranbrook.org/event/in-person-morning-prayer/2026-06-24/
LOCATION:Christ Church Cranbrook\, 470 Church Road\, Bloomfield Hills\, MI\, 48304\, United States
CATEGORIES:Worship Services
ATTACH;FMTTYPE=image/jpeg:https://christchurchcranbrook.org/wp-content/uploads/2023/06/WEB-1200-x-800-px-updated-21.jpg
END:VEVENT
BEGIN:VEVENT
DTSTART;TZID=America/Detroit:20260625T080000
DTEND;TZID=America/Detroit:20260625T083000
DTSTAMP:20260421T135854
CREATED:20230626T185849Z
LAST-MODIFIED:20260421T154335Z
UID:22068-1782374400-1782376200@christchurchcranbrook.org
SUMMARY:Morning Prayer
DESCRIPTION:All are welcome to join us on weekday mornings for in-person communal Morning Prayer at 8 AM in St. Paul’s Chapel using the Book of Common Prayer. Come together with others to nurture a rhythm of daily prayer and a deeper connection to the Spirit by sharing in this ancient practice of communal prayer. \nOnline morning prayer is still available at 8:30 AM; click here!
URL:https://christchurchcranbrook.org/event/in-person-morning-prayer/2026-06-25/
LOCATION:Christ Church Cranbrook\, 470 Church Road\, Bloomfield Hills\, MI\, 48304\, United States
CATEGORIES:Worship Services
ATTACH;FMTTYPE=image/jpeg:https://christchurchcranbrook.org/wp-content/uploads/2023/06/WEB-1200-x-800-px-updated-21.jpg
END:VEVENT
BEGIN:VEVENT
DTSTART;TZID=America/Detroit:20260626T080000
DTEND;TZID=America/Detroit:20260626T083000
DTSTAMP:20260421T135854
CREATED:20230626T185849Z
LAST-MODIFIED:20260421T154335Z
UID:22069-1782460800-1782462600@christchurchcranbrook.org
SUMMARY:Morning Prayer
DESCRIPTION:All are welcome to join us on weekday mornings for in-person communal Morning Prayer at 8 AM in St. Paul’s Chapel using the Book of Common Prayer. Come together with others to nurture a rhythm of daily prayer and a deeper connection to the Spirit by sharing in this ancient practice of communal prayer. \nOnline morning prayer is still available at 8:30 AM; click here!
URL:https://christchurchcranbrook.org/event/in-person-morning-prayer/2026-06-26/
LOCATION:Christ Church Cranbrook\, 470 Church Road\, Bloomfield Hills\, MI\, 48304\, United States
CATEGORIES:Worship Services
ATTACH;FMTTYPE=image/jpeg:https://christchurchcranbrook.org/wp-content/uploads/2023/06/WEB-1200-x-800-px-updated-21.jpg
END:VEVENT
BEGIN:VEVENT
DTSTART;TZID=America/Detroit:20260627T080000
DTEND;TZID=America/Detroit:20260627T083000
DTSTAMP:20260421T135854
CREATED:20230626T185849Z
LAST-MODIFIED:20230626T185849Z
UID:22328-1782547200-1782549000@christchurchcranbrook.org
SUMMARY:Morning Prayer
DESCRIPTION:All are welcome to join us on weekday mornings for in-person communal Morning Prayer at 8 AM in St. Paul’s Chapel using the Book of Common Prayer. Come together with others to nurture a rhythm of daily prayer and a deeper connection to the Spirit by sharing in this ancient practice of communal prayer. \nOnline morning prayer is still available at 8:30 AM; click here!
URL:https://christchurchcranbrook.org/event/in-person-morning-prayer/2026-06-27/
LOCATION:Christ Church Cranbrook\, 470 Church Road\, Bloomfield Hills\, MI\, 48304\, United States
CATEGORIES:Worship Services
ATTACH;FMTTYPE=image/jpeg:https://christchurchcranbrook.org/wp-content/uploads/2023/06/WEB-1200-x-800-px-updated-21.jpg
END:VEVENT
BEGIN:VEVENT
DTSTART;TZID=America/Detroit:20260627T170000
DTEND;TZID=America/Detroit:20260627T180000
DTSTAMP:20260421T135854
CREATED:20200427T132518Z
LAST-MODIFIED:20260311T155226Z
UID:20259-1782579600-1782583200@christchurchcranbrook.org
SUMMARY:5 PM Saturday Service
DESCRIPTION:Join us for worship with eucharist in the main church. \n 
URL:https://christchurchcranbrook.org/event/saturday-evening-worship-virtual/2026-06-27/
LOCATION:Christ Church Cranbrook\, 470 Church Road\, Bloomfield Hills\, MI\, 48304\, United States
CATEGORIES:Worship Services
ATTACH;FMTTYPE=image/png:https://christchurchcranbrook.org/wp-content/uploads/2020/04/Untitled-1200-x-675-px.png
END:VEVENT
BEGIN:VEVENT
DTSTART;TZID=America/Detroit:20260628T080000
DTEND;TZID=America/Detroit:20260628T083000
DTSTAMP:20260421T135854
CREATED:20230626T185849Z
LAST-MODIFIED:20230626T185849Z
UID:22329-1782633600-1782635400@christchurchcranbrook.org
SUMMARY:Morning Prayer
DESCRIPTION:All are welcome to join us on weekday mornings for in-person communal Morning Prayer at 8 AM in St. Paul’s Chapel using the Book of Common Prayer. Come together with others to nurture a rhythm of daily prayer and a deeper connection to the Spirit by sharing in this ancient practice of communal prayer. \nOnline morning prayer is still available at 8:30 AM; click here!
URL:https://christchurchcranbrook.org/event/in-person-morning-prayer/2026-06-28/
LOCATION:Christ Church Cranbrook\, 470 Church Road\, Bloomfield Hills\, MI\, 48304\, United States
CATEGORIES:Worship Services
ATTACH;FMTTYPE=image/jpeg:https://christchurchcranbrook.org/wp-content/uploads/2023/06/WEB-1200-x-800-px-updated-21.jpg
END:VEVENT
BEGIN:VEVENT
DTSTART;TZID=America/Detroit:20260628T100000
DTEND;TZID=America/Detroit:20260628T110000
DTSTAMP:20260421T135854
CREATED:20200427T124320Z
LAST-MODIFIED:20260310T143625Z
UID:20260-1782640800-1782644400@christchurchcranbrook.org
SUMMARY:10 AM Sunday Service (Online & In-person)
DESCRIPTION:Join us for our Service of the Word live-stream and in-person in the sanctuary. \nVisit cccathome.org to worship from home with readings\, a sermon\, and music.
URL:https://christchurchcranbrook.org/event/sunday-morning-worship-virtual/2026-06-28/
LOCATION:Christ Church Cranbrook\, 470 Church Road\, Bloomfield Hills\, MI\, 48304\, United States
CATEGORIES:Worship Services
ATTACH;FMTTYPE=image/png:https://christchurchcranbrook.org/wp-content/uploads/2020/04/WEB-169-Website-24.png
END:VEVENT
END:VCALENDAR