﻿BEGIN:VCALENDAR
VERSION:2.0
PRODID:-//CCC - ECPv6.15.17.1//NONSGML v1.0//EN
CALSCALE:GREGORIAN
METHOD:PUBLISH
X-ORIGINAL-URL:https://christchurchcranbrook.org
X-WR-CALDESC:Events for CCC
REFRESH-INTERVAL;VALUE=DURATION:PT1H
X-Robots-Tag:noindex
X-PUBLISHED-TTL:PT1H
BEGIN:VTIMEZONE
TZID:America/Detroit
BEGIN:DAYLIGHT
TZOFFSETFROM:-0500
TZOFFSETTO:-0400
TZNAME:EDT
DTSTART:20250309T070000
END:DAYLIGHT
BEGIN:STANDARD
TZOFFSETFROM:-0400
TZOFFSETTO:-0500
TZNAME:EST
DTSTART:20251102T060000
END:STANDARD
BEGIN:DAYLIGHT
TZOFFSETFROM:-0500
TZOFFSETTO:-0400
TZNAME:EDT
DTSTART:20260308T070000
END:DAYLIGHT
BEGIN:STANDARD
TZOFFSETFROM:-0400
TZOFFSETTO:-0500
TZNAME:EST
DTSTART:20261101T060000
END:STANDARD
BEGIN:DAYLIGHT
TZOFFSETFROM:-0500
TZOFFSETTO:-0400
TZNAME:EDT
DTSTART:20270314T070000
END:DAYLIGHT
BEGIN:STANDARD
TZOFFSETFROM:-0400
TZOFFSETTO:-0500
TZNAME:EST
DTSTART:20271107T060000
END:STANDARD
END:VTIMEZONE
BEGIN:VEVENT
DTSTART;TZID=America/Detroit:20260706T080000
DTEND;TZID=America/Detroit:20260706T083000
DTSTAMP:20260423T111434
CREATED:20230626T185849Z
LAST-MODIFIED:20260421T154337Z
UID:22075-1783324800-1783326600@christchurchcranbrook.org
SUMMARY:Morning Prayer
DESCRIPTION:All are welcome to join us on weekday mornings for in-person communal Morning Prayer at 8 AM in St. Paul’s Chapel using the Book of Common Prayer. Come together with others to nurture a rhythm of daily prayer and a deeper connection to the Spirit by sharing in this ancient practice of communal prayer. \nOnline morning prayer is still available at 8:30 AM; click here!
URL:https://christchurchcranbrook.org/event/in-person-morning-prayer/2026-07-06/
LOCATION:Christ Church Cranbrook\, 470 Church Road\, Bloomfield Hills\, MI\, 48304\, United States
CATEGORIES:Worship Services
ATTACH;FMTTYPE=image/jpeg:https://christchurchcranbrook.org/wp-content/uploads/2023/06/WEB-1200-x-800-px-updated-21.jpg
END:VEVENT
BEGIN:VEVENT
DTSTART;TZID=America/Detroit:20260706T080000
DTEND;TZID=America/Detroit:20260706T083000
DTSTAMP:20260423T111434
CREATED:20230626T185849Z
LAST-MODIFIED:20230626T185849Z
UID:22649-1783324800-1783326600@christchurchcranbrook.org
SUMMARY:Morning Prayer
DESCRIPTION:All are welcome to join us on weekday mornings for in-person communal Morning Prayer at 8 AM in St. Paul’s Chapel using the Book of Common Prayer. Come together with others to nurture a rhythm of daily prayer and a deeper connection to the Spirit by sharing in this ancient practice of communal prayer. \nOnline morning prayer is still available at 8:30 AM; click here!
URL:https://christchurchcranbrook.org/event/in-person-morning-prayer/2026-07-06/
LOCATION:Christ Church Cranbrook\, 470 Church Road\, Bloomfield Hills\, MI\, 48304\, United States
CATEGORIES:Worship Services
ATTACH;FMTTYPE=image/jpeg:https://christchurchcranbrook.org/wp-content/uploads/2023/06/WEB-1200-x-800-px-updated-21.jpg
END:VEVENT
BEGIN:VEVENT
DTSTART;TZID=America/Detroit:20260707T080000
DTEND;TZID=America/Detroit:20260707T083000
DTSTAMP:20260423T111434
CREATED:20230626T185849Z
LAST-MODIFIED:20260421T154337Z
UID:22076-1783411200-1783413000@christchurchcranbrook.org
SUMMARY:Morning Prayer
DESCRIPTION:All are welcome to join us on weekday mornings for in-person communal Morning Prayer at 8 AM in St. Paul’s Chapel using the Book of Common Prayer. Come together with others to nurture a rhythm of daily prayer and a deeper connection to the Spirit by sharing in this ancient practice of communal prayer. \nOnline morning prayer is still available at 8:30 AM; click here!
URL:https://christchurchcranbrook.org/event/in-person-morning-prayer/2026-07-07/
LOCATION:Christ Church Cranbrook\, 470 Church Road\, Bloomfield Hills\, MI\, 48304\, United States
CATEGORIES:Worship Services
ATTACH;FMTTYPE=image/jpeg:https://christchurchcranbrook.org/wp-content/uploads/2023/06/WEB-1200-x-800-px-updated-21.jpg
END:VEVENT
BEGIN:VEVENT
DTSTART;TZID=America/Detroit:20260707T080000
DTEND;TZID=America/Detroit:20260707T083000
DTSTAMP:20260423T111434
CREATED:20230626T185849Z
LAST-MODIFIED:20230626T185849Z
UID:22650-1783411200-1783413000@christchurchcranbrook.org
SUMMARY:Morning Prayer
DESCRIPTION:All are welcome to join us on weekday mornings for in-person communal Morning Prayer at 8 AM in St. Paul’s Chapel using the Book of Common Prayer. Come together with others to nurture a rhythm of daily prayer and a deeper connection to the Spirit by sharing in this ancient practice of communal prayer. \nOnline morning prayer is still available at 8:30 AM; click here!
URL:https://christchurchcranbrook.org/event/in-person-morning-prayer/2026-07-07/
LOCATION:Christ Church Cranbrook\, 470 Church Road\, Bloomfield Hills\, MI\, 48304\, United States
CATEGORIES:Worship Services
ATTACH;FMTTYPE=image/jpeg:https://christchurchcranbrook.org/wp-content/uploads/2023/06/WEB-1200-x-800-px-updated-21.jpg
END:VEVENT
BEGIN:VEVENT
DTSTART;TZID=America/Detroit:20260708T080000
DTEND;TZID=America/Detroit:20260708T083000
DTSTAMP:20260423T111434
CREATED:20230626T185849Z
LAST-MODIFIED:20260421T154337Z
UID:22077-1783497600-1783499400@christchurchcranbrook.org
SUMMARY:Morning Prayer
DESCRIPTION:All are welcome to join us on weekday mornings for in-person communal Morning Prayer at 8 AM in St. Paul’s Chapel using the Book of Common Prayer. Come together with others to nurture a rhythm of daily prayer and a deeper connection to the Spirit by sharing in this ancient practice of communal prayer. \nOnline morning prayer is still available at 8:30 AM; click here!
URL:https://christchurchcranbrook.org/event/in-person-morning-prayer/2026-07-08/
LOCATION:Christ Church Cranbrook\, 470 Church Road\, Bloomfield Hills\, MI\, 48304\, United States
CATEGORIES:Worship Services
ATTACH;FMTTYPE=image/jpeg:https://christchurchcranbrook.org/wp-content/uploads/2023/06/WEB-1200-x-800-px-updated-21.jpg
END:VEVENT
BEGIN:VEVENT
DTSTART;TZID=America/Detroit:20260708T080000
DTEND;TZID=America/Detroit:20260708T083000
DTSTAMP:20260423T111434
CREATED:20230626T185849Z
LAST-MODIFIED:20230626T185849Z
UID:22651-1783497600-1783499400@christchurchcranbrook.org
SUMMARY:Morning Prayer
DESCRIPTION:All are welcome to join us on weekday mornings for in-person communal Morning Prayer at 8 AM in St. Paul’s Chapel using the Book of Common Prayer. Come together with others to nurture a rhythm of daily prayer and a deeper connection to the Spirit by sharing in this ancient practice of communal prayer. \nOnline morning prayer is still available at 8:30 AM; click here!
URL:https://christchurchcranbrook.org/event/in-person-morning-prayer/2026-07-08/
LOCATION:Christ Church Cranbrook\, 470 Church Road\, Bloomfield Hills\, MI\, 48304\, United States
CATEGORIES:Worship Services
ATTACH;FMTTYPE=image/jpeg:https://christchurchcranbrook.org/wp-content/uploads/2023/06/WEB-1200-x-800-px-updated-21.jpg
END:VEVENT
BEGIN:VEVENT
DTSTART;TZID=America/Detroit:20260709T080000
DTEND;TZID=America/Detroit:20260709T083000
DTSTAMP:20260423T111434
CREATED:20230626T185849Z
LAST-MODIFIED:20260421T154337Z
UID:22078-1783584000-1783585800@christchurchcranbrook.org
SUMMARY:Morning Prayer
DESCRIPTION:All are welcome to join us on weekday mornings for in-person communal Morning Prayer at 8 AM in St. Paul’s Chapel using the Book of Common Prayer. Come together with others to nurture a rhythm of daily prayer and a deeper connection to the Spirit by sharing in this ancient practice of communal prayer. \nOnline morning prayer is still available at 8:30 AM; click here!
URL:https://christchurchcranbrook.org/event/in-person-morning-prayer/2026-07-09/
LOCATION:Christ Church Cranbrook\, 470 Church Road\, Bloomfield Hills\, MI\, 48304\, United States
CATEGORIES:Worship Services
ATTACH;FMTTYPE=image/jpeg:https://christchurchcranbrook.org/wp-content/uploads/2023/06/WEB-1200-x-800-px-updated-21.jpg
END:VEVENT
BEGIN:VEVENT
DTSTART;TZID=America/Detroit:20260709T080000
DTEND;TZID=America/Detroit:20260709T083000
DTSTAMP:20260423T111434
CREATED:20230626T185849Z
LAST-MODIFIED:20230626T185849Z
UID:22652-1783584000-1783585800@christchurchcranbrook.org
SUMMARY:Morning Prayer
DESCRIPTION:All are welcome to join us on weekday mornings for in-person communal Morning Prayer at 8 AM in St. Paul’s Chapel using the Book of Common Prayer. Come together with others to nurture a rhythm of daily prayer and a deeper connection to the Spirit by sharing in this ancient practice of communal prayer. \nOnline morning prayer is still available at 8:30 AM; click here!
URL:https://christchurchcranbrook.org/event/in-person-morning-prayer/2026-07-09/
LOCATION:Christ Church Cranbrook\, 470 Church Road\, Bloomfield Hills\, MI\, 48304\, United States
CATEGORIES:Worship Services
ATTACH;FMTTYPE=image/jpeg:https://christchurchcranbrook.org/wp-content/uploads/2023/06/WEB-1200-x-800-px-updated-21.jpg
END:VEVENT
BEGIN:VEVENT
DTSTART;TZID=America/Detroit:20260710T080000
DTEND;TZID=America/Detroit:20260710T083000
DTSTAMP:20260423T111434
CREATED:20230626T185849Z
LAST-MODIFIED:20260421T154337Z
UID:22079-1783670400-1783672200@christchurchcranbrook.org
SUMMARY:Morning Prayer
DESCRIPTION:All are welcome to join us on weekday mornings for in-person communal Morning Prayer at 8 AM in St. Paul’s Chapel using the Book of Common Prayer. Come together with others to nurture a rhythm of daily prayer and a deeper connection to the Spirit by sharing in this ancient practice of communal prayer. \nOnline morning prayer is still available at 8:30 AM; click here!
URL:https://christchurchcranbrook.org/event/in-person-morning-prayer/2026-07-10/
LOCATION:Christ Church Cranbrook\, 470 Church Road\, Bloomfield Hills\, MI\, 48304\, United States
CATEGORIES:Worship Services
ATTACH;FMTTYPE=image/jpeg:https://christchurchcranbrook.org/wp-content/uploads/2023/06/WEB-1200-x-800-px-updated-21.jpg
END:VEVENT
BEGIN:VEVENT
DTSTART;TZID=America/Detroit:20260710T080000
DTEND;TZID=America/Detroit:20260710T083000
DTSTAMP:20260423T111434
CREATED:20230626T185849Z
LAST-MODIFIED:20230626T185849Z
UID:22653-1783670400-1783672200@christchurchcranbrook.org
SUMMARY:Morning Prayer
DESCRIPTION:All are welcome to join us on weekday mornings for in-person communal Morning Prayer at 8 AM in St. Paul’s Chapel using the Book of Common Prayer. Come together with others to nurture a rhythm of daily prayer and a deeper connection to the Spirit by sharing in this ancient practice of communal prayer. \nOnline morning prayer is still available at 8:30 AM; click here!
URL:https://christchurchcranbrook.org/event/in-person-morning-prayer/2026-07-10/
LOCATION:Christ Church Cranbrook\, 470 Church Road\, Bloomfield Hills\, MI\, 48304\, United States
CATEGORIES:Worship Services
ATTACH;FMTTYPE=image/jpeg:https://christchurchcranbrook.org/wp-content/uploads/2023/06/WEB-1200-x-800-px-updated-21.jpg
END:VEVENT
BEGIN:VEVENT
DTSTART;TZID=America/Detroit:20260711T080000
DTEND;TZID=America/Detroit:20260711T083000
DTSTAMP:20260423T111434
CREATED:20230626T185849Z
LAST-MODIFIED:20230626T185849Z
UID:22654-1783756800-1783758600@christchurchcranbrook.org
SUMMARY:Morning Prayer
DESCRIPTION:All are welcome to join us on weekday mornings for in-person communal Morning Prayer at 8 AM in St. Paul’s Chapel using the Book of Common Prayer. Come together with others to nurture a rhythm of daily prayer and a deeper connection to the Spirit by sharing in this ancient practice of communal prayer. \nOnline morning prayer is still available at 8:30 AM; click here!
URL:https://christchurchcranbrook.org/event/in-person-morning-prayer/2026-07-11/
LOCATION:Christ Church Cranbrook\, 470 Church Road\, Bloomfield Hills\, MI\, 48304\, United States
CATEGORIES:Worship Services
ATTACH;FMTTYPE=image/jpeg:https://christchurchcranbrook.org/wp-content/uploads/2023/06/WEB-1200-x-800-px-updated-21.jpg
END:VEVENT
BEGIN:VEVENT
DTSTART;TZID=America/Detroit:20260711T080000
DTEND;TZID=America/Detroit:20260711T083000
DTSTAMP:20260423T111434
CREATED:20230626T185849Z
LAST-MODIFIED:20230626T185849Z
UID:22332-1783756800-1783758600@christchurchcranbrook.org
SUMMARY:Morning Prayer
DESCRIPTION:All are welcome to join us on weekday mornings for in-person communal Morning Prayer at 8 AM in St. Paul’s Chapel using the Book of Common Prayer. Come together with others to nurture a rhythm of daily prayer and a deeper connection to the Spirit by sharing in this ancient practice of communal prayer. \nOnline morning prayer is still available at 8:30 AM; click here!
URL:https://christchurchcranbrook.org/event/in-person-morning-prayer/2026-07-11/
LOCATION:Christ Church Cranbrook\, 470 Church Road\, Bloomfield Hills\, MI\, 48304\, United States
CATEGORIES:Worship Services
ATTACH;FMTTYPE=image/jpeg:https://christchurchcranbrook.org/wp-content/uploads/2023/06/WEB-1200-x-800-px-updated-21.jpg
END:VEVENT
BEGIN:VEVENT
DTSTART;TZID=America/Detroit:20260711T170000
DTEND;TZID=America/Detroit:20260711T180000
DTSTAMP:20260423T111434
CREATED:20200427T132518Z
LAST-MODIFIED:20260311T155226Z
UID:20270-1783789200-1783792800@christchurchcranbrook.org
SUMMARY:5 PM Saturday Service
DESCRIPTION:Join us for worship with eucharist in the main church. \n 
URL:https://christchurchcranbrook.org/event/saturday-evening-worship-virtual/2026-07-11/
LOCATION:Christ Church Cranbrook\, 470 Church Road\, Bloomfield Hills\, MI\, 48304\, United States
CATEGORIES:Worship Services
ATTACH;FMTTYPE=image/png:https://christchurchcranbrook.org/wp-content/uploads/2020/04/Untitled-1200-x-675-px.png
END:VEVENT
BEGIN:VEVENT
DTSTART;TZID=America/Detroit:20260712T080000
DTEND;TZID=America/Detroit:20260712T083000
DTSTAMP:20260423T111434
CREATED:20230626T185849Z
LAST-MODIFIED:20230626T185849Z
UID:22655-1783843200-1783845000@christchurchcranbrook.org
SUMMARY:Morning Prayer
DESCRIPTION:All are welcome to join us on weekday mornings for in-person communal Morning Prayer at 8 AM in St. Paul’s Chapel using the Book of Common Prayer. Come together with others to nurture a rhythm of daily prayer and a deeper connection to the Spirit by sharing in this ancient practice of communal prayer. \nOnline morning prayer is still available at 8:30 AM; click here!
URL:https://christchurchcranbrook.org/event/in-person-morning-prayer/2026-07-12/
LOCATION:Christ Church Cranbrook\, 470 Church Road\, Bloomfield Hills\, MI\, 48304\, United States
CATEGORIES:Worship Services
ATTACH;FMTTYPE=image/jpeg:https://christchurchcranbrook.org/wp-content/uploads/2023/06/WEB-1200-x-800-px-updated-21.jpg
END:VEVENT
BEGIN:VEVENT
DTSTART;TZID=America/Detroit:20260712T080000
DTEND;TZID=America/Detroit:20260712T083000
DTSTAMP:20260423T111434
CREATED:20230626T185849Z
LAST-MODIFIED:20230626T185849Z
UID:22333-1783843200-1783845000@christchurchcranbrook.org
SUMMARY:Morning Prayer
DESCRIPTION:All are welcome to join us on weekday mornings for in-person communal Morning Prayer at 8 AM in St. Paul’s Chapel using the Book of Common Prayer. Come together with others to nurture a rhythm of daily prayer and a deeper connection to the Spirit by sharing in this ancient practice of communal prayer. \nOnline morning prayer is still available at 8:30 AM; click here!
URL:https://christchurchcranbrook.org/event/in-person-morning-prayer/2026-07-12/
LOCATION:Christ Church Cranbrook\, 470 Church Road\, Bloomfield Hills\, MI\, 48304\, United States
CATEGORIES:Worship Services
ATTACH;FMTTYPE=image/jpeg:https://christchurchcranbrook.org/wp-content/uploads/2023/06/WEB-1200-x-800-px-updated-21.jpg
END:VEVENT
BEGIN:VEVENT
DTSTART;TZID=America/Detroit:20260712T100000
DTEND;TZID=America/Detroit:20260712T110000
DTSTAMP:20260423T111434
CREATED:20200427T124320Z
LAST-MODIFIED:20260310T143626Z
UID:20271-1783850400-1783854000@christchurchcranbrook.org
SUMMARY:10 AM Sunday Service (Online & In-person)
DESCRIPTION:Join us for our Service of the Word live-stream and in-person in the sanctuary. \nVisit cccathome.org to worship from home with readings\, a sermon\, and music.
URL:https://christchurchcranbrook.org/event/sunday-morning-worship-virtual/2026-07-12/
LOCATION:Christ Church Cranbrook\, 470 Church Road\, Bloomfield Hills\, MI\, 48304\, United States
CATEGORIES:Worship Services
ATTACH;FMTTYPE=image/png:https://christchurchcranbrook.org/wp-content/uploads/2020/04/WEB-169-Website-24.png
END:VEVENT
BEGIN:VEVENT
DTSTART;TZID=America/Detroit:20260712T113000
DTEND;TZID=America/Detroit:20260712T123000
DTSTAMP:20260423T111434
CREATED:20230314T175425Z
LAST-MODIFIED:20260311T190753Z
UID:20272-1783855800-1783859400@christchurchcranbrook.org
SUMMARY:In Need of Prayers?
DESCRIPTION:If you are in need of prayers\, we hope that you will join Pastor Manisha and Pastor Joyce in St. Paul’s Chapel after the 10 AM service as they pray with anyone who needs it! \nQuestions? Email Pastor Manisha at mdostert@christchurchcranbrook.org
URL:https://christchurchcranbrook.org/event/in-need-of-prayers/2026-07-12/
LOCATION:Christ Church Cranbrook\, 470 Church Road\, Bloomfield Hills\, MI\, 48304\, United States
CATEGORIES:Pastoral Care,Worship Services
ATTACH;FMTTYPE=image/png:https://christchurchcranbrook.org/wp-content/uploads/2023/03/WEB-169-Website-23.png
END:VEVENT
END:VCALENDAR