﻿BEGIN:VCALENDAR
VERSION:2.0
PRODID:-//CCC - ECPv6.15.17.1//NONSGML v1.0//EN
CALSCALE:GREGORIAN
METHOD:PUBLISH
X-ORIGINAL-URL:https://christchurchcranbrook.org
X-WR-CALDESC:Events for CCC
REFRESH-INTERVAL;VALUE=DURATION:PT1H
X-Robots-Tag:noindex
X-PUBLISHED-TTL:PT1H
BEGIN:VTIMEZONE
TZID:America/Detroit
BEGIN:DAYLIGHT
TZOFFSETFROM:-0500
TZOFFSETTO:-0400
TZNAME:EDT
DTSTART:20250309T070000
END:DAYLIGHT
BEGIN:STANDARD
TZOFFSETFROM:-0400
TZOFFSETTO:-0500
TZNAME:EST
DTSTART:20251102T060000
END:STANDARD
BEGIN:DAYLIGHT
TZOFFSETFROM:-0500
TZOFFSETTO:-0400
TZNAME:EDT
DTSTART:20260308T070000
END:DAYLIGHT
BEGIN:STANDARD
TZOFFSETFROM:-0400
TZOFFSETTO:-0500
TZNAME:EST
DTSTART:20261101T060000
END:STANDARD
BEGIN:DAYLIGHT
TZOFFSETFROM:-0500
TZOFFSETTO:-0400
TZNAME:EDT
DTSTART:20270314T070000
END:DAYLIGHT
BEGIN:STANDARD
TZOFFSETFROM:-0400
TZOFFSETTO:-0500
TZNAME:EST
DTSTART:20271107T060000
END:STANDARD
END:VTIMEZONE
BEGIN:VEVENT
DTSTART;TZID=America/Detroit:20260713T080000
DTEND;TZID=America/Detroit:20260713T083000
DTSTAMP:20260423T180251
CREATED:20230626T185849Z
LAST-MODIFIED:20230626T185849Z
UID:22656-1783929600-1783931400@christchurchcranbrook.org
SUMMARY:Morning Prayer
DESCRIPTION:All are welcome to join us on weekday mornings for in-person communal Morning Prayer at 8 AM in St. Paul’s Chapel using the Book of Common Prayer. Come together with others to nurture a rhythm of daily prayer and a deeper connection to the Spirit by sharing in this ancient practice of communal prayer. \nOnline morning prayer is still available at 8:30 AM; click here!
URL:https://christchurchcranbrook.org/event/in-person-morning-prayer/2026-07-13/
LOCATION:Christ Church Cranbrook\, 470 Church Road\, Bloomfield Hills\, MI\, 48304\, United States
CATEGORIES:Worship Services
ATTACH;FMTTYPE=image/jpeg:https://christchurchcranbrook.org/wp-content/uploads/2023/06/WEB-1200-x-800-px-updated-21.jpg
END:VEVENT
BEGIN:VEVENT
DTSTART;TZID=America/Detroit:20260714T080000
DTEND;TZID=America/Detroit:20260714T083000
DTSTAMP:20260423T180251
CREATED:20230626T185849Z
LAST-MODIFIED:20260421T154338Z
UID:22081-1784016000-1784017800@christchurchcranbrook.org
SUMMARY:Morning Prayer
DESCRIPTION:All are welcome to join us on weekday mornings for in-person communal Morning Prayer at 8 AM in St. Paul’s Chapel using the Book of Common Prayer. Come together with others to nurture a rhythm of daily prayer and a deeper connection to the Spirit by sharing in this ancient practice of communal prayer. \nOnline morning prayer is still available at 8:30 AM; click here!
URL:https://christchurchcranbrook.org/event/in-person-morning-prayer/2026-07-14/
LOCATION:Christ Church Cranbrook\, 470 Church Road\, Bloomfield Hills\, MI\, 48304\, United States
CATEGORIES:Worship Services
ATTACH;FMTTYPE=image/jpeg:https://christchurchcranbrook.org/wp-content/uploads/2023/06/WEB-1200-x-800-px-updated-21.jpg
END:VEVENT
BEGIN:VEVENT
DTSTART;TZID=America/Detroit:20260715T080000
DTEND;TZID=America/Detroit:20260715T083000
DTSTAMP:20260423T180251
CREATED:20230626T185849Z
LAST-MODIFIED:20230626T185849Z
UID:22658-1784102400-1784104200@christchurchcranbrook.org
SUMMARY:Morning Prayer
DESCRIPTION:All are welcome to join us on weekday mornings for in-person communal Morning Prayer at 8 AM in St. Paul’s Chapel using the Book of Common Prayer. Come together with others to nurture a rhythm of daily prayer and a deeper connection to the Spirit by sharing in this ancient practice of communal prayer. \nOnline morning prayer is still available at 8:30 AM; click here!
URL:https://christchurchcranbrook.org/event/in-person-morning-prayer/2026-07-15/
LOCATION:Christ Church Cranbrook\, 470 Church Road\, Bloomfield Hills\, MI\, 48304\, United States
CATEGORIES:Worship Services
ATTACH;FMTTYPE=image/jpeg:https://christchurchcranbrook.org/wp-content/uploads/2023/06/WEB-1200-x-800-px-updated-21.jpg
END:VEVENT
BEGIN:VEVENT
DTSTART;TZID=America/Detroit:20260716T080000
DTEND;TZID=America/Detroit:20260716T083000
DTSTAMP:20260423T180251
CREATED:20230626T185849Z
LAST-MODIFIED:20260421T154338Z
UID:22083-1784188800-1784190600@christchurchcranbrook.org
SUMMARY:Morning Prayer
DESCRIPTION:All are welcome to join us on weekday mornings for in-person communal Morning Prayer at 8 AM in St. Paul’s Chapel using the Book of Common Prayer. Come together with others to nurture a rhythm of daily prayer and a deeper connection to the Spirit by sharing in this ancient practice of communal prayer. \nOnline morning prayer is still available at 8:30 AM; click here!
URL:https://christchurchcranbrook.org/event/in-person-morning-prayer/2026-07-16/
LOCATION:Christ Church Cranbrook\, 470 Church Road\, Bloomfield Hills\, MI\, 48304\, United States
CATEGORIES:Worship Services
ATTACH;FMTTYPE=image/jpeg:https://christchurchcranbrook.org/wp-content/uploads/2023/06/WEB-1200-x-800-px-updated-21.jpg
END:VEVENT
BEGIN:VEVENT
DTSTART;TZID=America/Detroit:20260717T080000
DTEND;TZID=America/Detroit:20260717T083000
DTSTAMP:20260423T180251
CREATED:20230626T185849Z
LAST-MODIFIED:20230626T185849Z
UID:22660-1784275200-1784277000@christchurchcranbrook.org
SUMMARY:Morning Prayer
DESCRIPTION:All are welcome to join us on weekday mornings for in-person communal Morning Prayer at 8 AM in St. Paul’s Chapel using the Book of Common Prayer. Come together with others to nurture a rhythm of daily prayer and a deeper connection to the Spirit by sharing in this ancient practice of communal prayer. \nOnline morning prayer is still available at 8:30 AM; click here!
URL:https://christchurchcranbrook.org/event/in-person-morning-prayer/2026-07-17/
LOCATION:Christ Church Cranbrook\, 470 Church Road\, Bloomfield Hills\, MI\, 48304\, United States
CATEGORIES:Worship Services
ATTACH;FMTTYPE=image/jpeg:https://christchurchcranbrook.org/wp-content/uploads/2023/06/WEB-1200-x-800-px-updated-21.jpg
END:VEVENT
BEGIN:VEVENT
DTSTART;TZID=America/Detroit:20260718T080000
DTEND;TZID=America/Detroit:20260718T083000
DTSTAMP:20260423T180251
CREATED:20230626T185849Z
LAST-MODIFIED:20230626T185849Z
UID:22661-1784361600-1784363400@christchurchcranbrook.org
SUMMARY:Morning Prayer
DESCRIPTION:All are welcome to join us on weekday mornings for in-person communal Morning Prayer at 8 AM in St. Paul’s Chapel using the Book of Common Prayer. Come together with others to nurture a rhythm of daily prayer and a deeper connection to the Spirit by sharing in this ancient practice of communal prayer. \nOnline morning prayer is still available at 8:30 AM; click here!
URL:https://christchurchcranbrook.org/event/in-person-morning-prayer/2026-07-18/
LOCATION:Christ Church Cranbrook\, 470 Church Road\, Bloomfield Hills\, MI\, 48304\, United States
CATEGORIES:Worship Services
ATTACH;FMTTYPE=image/jpeg:https://christchurchcranbrook.org/wp-content/uploads/2023/06/WEB-1200-x-800-px-updated-21.jpg
END:VEVENT
BEGIN:VEVENT
DTSTART;TZID=America/Detroit:20260718T170000
DTEND;TZID=America/Detroit:20260718T180000
DTSTAMP:20260423T180251
CREATED:20200427T132518Z
LAST-MODIFIED:20260311T155226Z
UID:20277-1784394000-1784397600@christchurchcranbrook.org
SUMMARY:5 PM Saturday Service
DESCRIPTION:Join us for worship with eucharist in the main church. \n 
URL:https://christchurchcranbrook.org/event/saturday-evening-worship-virtual/2026-07-18/
LOCATION:Christ Church Cranbrook\, 470 Church Road\, Bloomfield Hills\, MI\, 48304\, United States
CATEGORIES:Worship Services
ATTACH;FMTTYPE=image/png:https://christchurchcranbrook.org/wp-content/uploads/2020/04/Untitled-1200-x-675-px.png
END:VEVENT
BEGIN:VEVENT
DTSTART;TZID=America/Detroit:20260719T080000
DTEND;TZID=America/Detroit:20260719T083000
DTSTAMP:20260423T180251
CREATED:20230626T185849Z
LAST-MODIFIED:20230626T185849Z
UID:22335-1784448000-1784449800@christchurchcranbrook.org
SUMMARY:Morning Prayer
DESCRIPTION:All are welcome to join us on weekday mornings for in-person communal Morning Prayer at 8 AM in St. Paul’s Chapel using the Book of Common Prayer. Come together with others to nurture a rhythm of daily prayer and a deeper connection to the Spirit by sharing in this ancient practice of communal prayer. \nOnline morning prayer is still available at 8:30 AM; click here!
URL:https://christchurchcranbrook.org/event/in-person-morning-prayer/2026-07-19/
LOCATION:Christ Church Cranbrook\, 470 Church Road\, Bloomfield Hills\, MI\, 48304\, United States
CATEGORIES:Worship Services
ATTACH;FMTTYPE=image/jpeg:https://christchurchcranbrook.org/wp-content/uploads/2023/06/WEB-1200-x-800-px-updated-21.jpg
END:VEVENT
BEGIN:VEVENT
DTSTART;TZID=America/Detroit:20260719T100000
DTEND;TZID=America/Detroit:20260719T110000
DTSTAMP:20260423T180251
CREATED:20200427T124320Z
LAST-MODIFIED:20260310T143626Z
UID:20278-1784455200-1784458800@christchurchcranbrook.org
SUMMARY:10 AM Sunday Service (Online & In-person)
DESCRIPTION:Join us for our Service of the Word live-stream and in-person in the sanctuary. \nVisit cccathome.org to worship from home with readings\, a sermon\, and music.
URL:https://christchurchcranbrook.org/event/sunday-morning-worship-virtual/2026-07-19/
LOCATION:Christ Church Cranbrook\, 470 Church Road\, Bloomfield Hills\, MI\, 48304\, United States
CATEGORIES:Worship Services
ATTACH;FMTTYPE=image/png:https://christchurchcranbrook.org/wp-content/uploads/2020/04/WEB-169-Website-24.png
END:VEVENT
BEGIN:VEVENT
DTSTART;TZID=America/Detroit:20260719T113000
DTEND;TZID=America/Detroit:20260719T123000
DTSTAMP:20260423T180251
CREATED:20230314T175425Z
LAST-MODIFIED:20260311T190754Z
UID:20279-1784460600-1784464200@christchurchcranbrook.org
SUMMARY:In Need of Prayers?
DESCRIPTION:If you are in need of prayers\, we hope that you will join Pastor Manisha and Pastor Joyce in St. Paul’s Chapel after the 10 AM service as they pray with anyone who needs it! \nQuestions? Email Pastor Manisha at mdostert@christchurchcranbrook.org
URL:https://christchurchcranbrook.org/event/in-need-of-prayers/2026-07-19/
LOCATION:Christ Church Cranbrook\, 470 Church Road\, Bloomfield Hills\, MI\, 48304\, United States
CATEGORIES:Pastoral Care,Worship Services
ATTACH;FMTTYPE=image/png:https://christchurchcranbrook.org/wp-content/uploads/2023/03/WEB-169-Website-23.png
END:VEVENT
END:VCALENDAR