﻿BEGIN:VCALENDAR
VERSION:2.0
PRODID:-//CCC - ECPv6.15.17.1//NONSGML v1.0//EN
CALSCALE:GREGORIAN
METHOD:PUBLISH
X-WR-CALNAME:CCC
X-ORIGINAL-URL:https://christchurchcranbrook.org
X-WR-CALDESC:Events for CCC
REFRESH-INTERVAL;VALUE=DURATION:PT1H
X-Robots-Tag:noindex
X-PUBLISHED-TTL:PT1H
BEGIN:VTIMEZONE
TZID:America/Detroit
BEGIN:DAYLIGHT
TZOFFSETFROM:-0500
TZOFFSETTO:-0400
TZNAME:EDT
DTSTART:20250309T070000
END:DAYLIGHT
BEGIN:STANDARD
TZOFFSETFROM:-0400
TZOFFSETTO:-0500
TZNAME:EST
DTSTART:20251102T060000
END:STANDARD
BEGIN:DAYLIGHT
TZOFFSETFROM:-0500
TZOFFSETTO:-0400
TZNAME:EDT
DTSTART:20260308T070000
END:DAYLIGHT
BEGIN:STANDARD
TZOFFSETFROM:-0400
TZOFFSETTO:-0500
TZNAME:EST
DTSTART:20261101T060000
END:STANDARD
BEGIN:DAYLIGHT
TZOFFSETFROM:-0500
TZOFFSETTO:-0400
TZNAME:EDT
DTSTART:20270314T070000
END:DAYLIGHT
BEGIN:STANDARD
TZOFFSETFROM:-0400
TZOFFSETTO:-0500
TZNAME:EST
DTSTART:20271107T060000
END:STANDARD
END:VTIMEZONE
BEGIN:VEVENT
DTSTART;TZID=America/Detroit:20260223T080000
DTEND;TZID=America/Detroit:20260223T083000
DTSTAMP:20260423T073934
CREATED:20230626T185849Z
LAST-MODIFIED:20230626T185849Z
UID:22516-1771833600-1771835400@christchurchcranbrook.org
SUMMARY:Morning Prayer
DESCRIPTION:All are welcome to join us on weekday mornings for in-person communal Morning Prayer at 8 AM in St. Paul’s Chapel using the Book of Common Prayer. Come together with others to nurture a rhythm of daily prayer and a deeper connection to the Spirit by sharing in this ancient practice of communal prayer. \nOnline morning prayer is still available at 8:30 AM; click here!
URL:https://christchurchcranbrook.org/event/in-person-morning-prayer/2026-02-23/
LOCATION:Christ Church Cranbrook\, 470 Church Road\, Bloomfield Hills\, MI\, 48304\, United States
CATEGORIES:Worship Services
ATTACH;FMTTYPE=image/jpeg:https://christchurchcranbrook.org/wp-content/uploads/2023/06/WEB-1200-x-800-px-updated-21.jpg
END:VEVENT
BEGIN:VEVENT
DTSTART;TZID=America/Detroit:20260223T080000
DTEND;TZID=America/Detroit:20260223T083000
DTSTAMP:20260423T073934
CREATED:20230626T185849Z
LAST-MODIFIED:20260421T154309Z
UID:21980-1771833600-1771835400@christchurchcranbrook.org
SUMMARY:Morning Prayer
DESCRIPTION:All are welcome to join us on weekday mornings for in-person communal Morning Prayer at 8 AM in St. Paul’s Chapel using the Book of Common Prayer. Come together with others to nurture a rhythm of daily prayer and a deeper connection to the Spirit by sharing in this ancient practice of communal prayer. \nOnline morning prayer is still available at 8:30 AM; click here!
URL:https://christchurchcranbrook.org/event/in-person-morning-prayer/2026-02-23/
LOCATION:Christ Church Cranbrook\, 470 Church Road\, Bloomfield Hills\, MI\, 48304\, United States
CATEGORIES:Worship Services
ATTACH;FMTTYPE=image/jpeg:https://christchurchcranbrook.org/wp-content/uploads/2023/06/WEB-1200-x-800-px-updated-21.jpg
END:VEVENT
BEGIN:VEVENT
DTSTART;TZID=America/Detroit:20260223T113000
DTEND;TZID=America/Detroit:20260223T143000
DTSTAMP:20260423T073934
CREATED:20260122T221247Z
LAST-MODIFIED:20260217T155513Z
UID:21286-1771846200-1771857000@christchurchcranbrook.org
SUMMARY:Oasis Gathering: How to Pray--Spending time with God
DESCRIPTION:OASIS (Older Adults Sharing in the Spirit) invites you to four quarterly gatherings at Christ Church Cranbrook. Enjoy warm fellowship\, delicious lunches\, and engaging programs in our beautiful spaces. Come connect\, share\, and celebrate the gift of community together. The group will gather for a progam entitled: “How to Pray: Spending time with God.” Fr. Bill Carroll will lead the group and there will be plenty of time to share our thoughts and experiences of encountering the living God in our prayer. Please join us for food\, fellowship\, and a chance to connect more deeply with our faith. \nSign-up – ccc-info.org/oasis
URL:https://christchurchcranbrook.org/event/oasis-gathering-how-to-pray-spending-time-with-god/
LOCATION:Christ Church Cranbrook\, 470 Church Road\, Bloomfield Hills\, MI\, 48304\, United States
CATEGORIES:Homepage Featured,Pastoral Care
ATTACH;FMTTYPE=image/png:https://christchurchcranbrook.org/wp-content/uploads/2026/01/WEB-169-Website-34.png
END:VEVENT
BEGIN:VEVENT
DTSTART;TZID=America/Detroit:20260223T190000
DTEND;TZID=America/Detroit:20260223T203000
DTSTAMP:20260423T073934
CREATED:20260126T173625Z
LAST-MODIFIED:20260126T174316Z
UID:21299-1771873200-1771878600@christchurchcranbrook.org
SUMMARY:The CCC Book Club
DESCRIPTION:The CCC Book Club will meet again on Monday\, February 23\, 2026 at 7 PM via Zoom. The selection for February is: The Warburgs: The Twentieth-Century Odyssey of a Remarkable Jewish Family\, by Ron Chernow. The book is 725 pages. We will read up to page 364 for the February 23 date. The remainder we will discuss at a later TBD date. We hop you will join us. You may join us for discussion even if you have not read the book. All are welcome! \nAccess Zoom link here: ccc-info.org/bookclub
URL:https://christchurchcranbrook.org/event/the-ccc-book-club/
LOCATION:https://ccc-info.org/bookclub
CATEGORIES:Fellowship & Small Groups
ATTACH;FMTTYPE=image/png:https://christchurchcranbrook.org/wp-content/uploads/2026/01/WEB-169-Website-1-1.png
END:VEVENT
BEGIN:VEVENT
DTSTART;TZID=America/Detroit:20260224T080000
DTEND;TZID=America/Detroit:20260224T083000
DTSTAMP:20260423T073934
CREATED:20230626T185849Z
LAST-MODIFIED:20230626T185849Z
UID:22517-1771920000-1771921800@christchurchcranbrook.org
SUMMARY:Morning Prayer
DESCRIPTION:All are welcome to join us on weekday mornings for in-person communal Morning Prayer at 8 AM in St. Paul’s Chapel using the Book of Common Prayer. Come together with others to nurture a rhythm of daily prayer and a deeper connection to the Spirit by sharing in this ancient practice of communal prayer. \nOnline morning prayer is still available at 8:30 AM; click here!
URL:https://christchurchcranbrook.org/event/in-person-morning-prayer/2026-02-24/
LOCATION:Christ Church Cranbrook\, 470 Church Road\, Bloomfield Hills\, MI\, 48304\, United States
CATEGORIES:Worship Services
ATTACH;FMTTYPE=image/jpeg:https://christchurchcranbrook.org/wp-content/uploads/2023/06/WEB-1200-x-800-px-updated-21.jpg
END:VEVENT
BEGIN:VEVENT
DTSTART;TZID=America/Detroit:20260224T080000
DTEND;TZID=America/Detroit:20260224T083000
DTSTAMP:20260423T073934
CREATED:20230626T185849Z
LAST-MODIFIED:20260421T154309Z
UID:21981-1771920000-1771921800@christchurchcranbrook.org
SUMMARY:Morning Prayer
DESCRIPTION:All are welcome to join us on weekday mornings for in-person communal Morning Prayer at 8 AM in St. Paul’s Chapel using the Book of Common Prayer. Come together with others to nurture a rhythm of daily prayer and a deeper connection to the Spirit by sharing in this ancient practice of communal prayer. \nOnline morning prayer is still available at 8:30 AM; click here!
URL:https://christchurchcranbrook.org/event/in-person-morning-prayer/2026-02-24/
LOCATION:Christ Church Cranbrook\, 470 Church Road\, Bloomfield Hills\, MI\, 48304\, United States
CATEGORIES:Worship Services
ATTACH;FMTTYPE=image/jpeg:https://christchurchcranbrook.org/wp-content/uploads/2023/06/WEB-1200-x-800-px-updated-21.jpg
END:VEVENT
BEGIN:VEVENT
DTSTART;TZID=America/Detroit:20260225T080000
DTEND;TZID=America/Detroit:20260225T083000
DTSTAMP:20260423T073934
CREATED:20230626T185849Z
LAST-MODIFIED:20230626T185849Z
UID:22518-1772006400-1772008200@christchurchcranbrook.org
SUMMARY:Morning Prayer
DESCRIPTION:All are welcome to join us on weekday mornings for in-person communal Morning Prayer at 8 AM in St. Paul’s Chapel using the Book of Common Prayer. Come together with others to nurture a rhythm of daily prayer and a deeper connection to the Spirit by sharing in this ancient practice of communal prayer. \nOnline morning prayer is still available at 8:30 AM; click here!
URL:https://christchurchcranbrook.org/event/in-person-morning-prayer/2026-02-25/
LOCATION:Christ Church Cranbrook\, 470 Church Road\, Bloomfield Hills\, MI\, 48304\, United States
CATEGORIES:Worship Services
ATTACH;FMTTYPE=image/jpeg:https://christchurchcranbrook.org/wp-content/uploads/2023/06/WEB-1200-x-800-px-updated-21.jpg
END:VEVENT
BEGIN:VEVENT
DTSTART;TZID=America/Detroit:20260225T080000
DTEND;TZID=America/Detroit:20260225T083000
DTSTAMP:20260423T073934
CREATED:20230626T185849Z
LAST-MODIFIED:20260421T154309Z
UID:21982-1772006400-1772008200@christchurchcranbrook.org
SUMMARY:Morning Prayer
DESCRIPTION:All are welcome to join us on weekday mornings for in-person communal Morning Prayer at 8 AM in St. Paul’s Chapel using the Book of Common Prayer. Come together with others to nurture a rhythm of daily prayer and a deeper connection to the Spirit by sharing in this ancient practice of communal prayer. \nOnline morning prayer is still available at 8:30 AM; click here!
URL:https://christchurchcranbrook.org/event/in-person-morning-prayer/2026-02-25/
LOCATION:Christ Church Cranbrook\, 470 Church Road\, Bloomfield Hills\, MI\, 48304\, United States
CATEGORIES:Worship Services
ATTACH;FMTTYPE=image/jpeg:https://christchurchcranbrook.org/wp-content/uploads/2023/06/WEB-1200-x-800-px-updated-21.jpg
END:VEVENT
BEGIN:VEVENT
DTSTART;TZID=America/Detroit:20260225T120000
DTEND;TZID=America/Detroit:20260225T140000
DTSTAMP:20260423T073934
CREATED:20260103T164533Z
LAST-MODIFIED:20260324T160749Z
UID:21326-1772020800-1772028000@christchurchcranbrook.org
SUMMARY:Women's Spirituality Group
DESCRIPTION:All women are invited to grow their spirituality! Join us on Wednesdays at noon in the Ministry Center! \nJan. 28\, Feb. 4 | Liturgy of the Ordinary \nFeb 11 | Check-in\, Forgiveness \nFeb 18 | Ash Wednesday (No Meeting) \nFeb 25 | A visit to the Cranbrook Archives for a presentation by Laura Newman \nMarch 4 | Deborah Odette presents on the art in the church \nMarch 11 | Community Check-in in “Kindness.” \nMarch 18 | Jonathan Ryan – History of Anglican Music \nMarch 25 | Jennifer Umphress – CCC Community Garden \nApril 1 | Wednesday of Easter (No Meeting) \nApril 8 | Local support for immigrants: Fr. Bob Alltop\, from Nativity\, Donna Censoni and Lisa Varnier from All Saints\, will explain what local non profits are doing to help immigrants in crisis. \nApril 15 | CCC Congregational Ministries – Lay Visitors\, Prayer Shawl\, Prayer Cards \nApril 22 | Karin Hoffecker – Poetry Book \nApril 29 | Nancy Torgerson – The Dawn Men \nMay 6 | Potluck Lunch (end of season)
URL:https://christchurchcranbrook.org/event/womens-spirituality-group/2026-02-25/
LOCATION:Christ Church Cranbrook\, 470 Church Road\, Bloomfield Hills\, MI\, 48304\, United States
CATEGORIES:Fellowship & Small Groups
ATTACH;FMTTYPE=image/png:https://christchurchcranbrook.org/wp-content/uploads/2026/01/WEB-169-1200-x-800-px-updated-13.png
END:VEVENT
BEGIN:VEVENT
DTSTART;TZID=America/Detroit:20260226T080000
DTEND;TZID=America/Detroit:20260226T083000
DTSTAMP:20260423T073934
CREATED:20230626T185849Z
LAST-MODIFIED:20230626T185849Z
UID:22519-1772092800-1772094600@christchurchcranbrook.org
SUMMARY:Morning Prayer
DESCRIPTION:All are welcome to join us on weekday mornings for in-person communal Morning Prayer at 8 AM in St. Paul’s Chapel using the Book of Common Prayer. Come together with others to nurture a rhythm of daily prayer and a deeper connection to the Spirit by sharing in this ancient practice of communal prayer. \nOnline morning prayer is still available at 8:30 AM; click here!
URL:https://christchurchcranbrook.org/event/in-person-morning-prayer/2026-02-26/
LOCATION:Christ Church Cranbrook\, 470 Church Road\, Bloomfield Hills\, MI\, 48304\, United States
CATEGORIES:Worship Services
ATTACH;FMTTYPE=image/jpeg:https://christchurchcranbrook.org/wp-content/uploads/2023/06/WEB-1200-x-800-px-updated-21.jpg
END:VEVENT
BEGIN:VEVENT
DTSTART;TZID=America/Detroit:20260226T080000
DTEND;TZID=America/Detroit:20260226T083000
DTSTAMP:20260423T073934
CREATED:20230626T185849Z
LAST-MODIFIED:20260421T154310Z
UID:21983-1772092800-1772094600@christchurchcranbrook.org
SUMMARY:Morning Prayer
DESCRIPTION:All are welcome to join us on weekday mornings for in-person communal Morning Prayer at 8 AM in St. Paul’s Chapel using the Book of Common Prayer. Come together with others to nurture a rhythm of daily prayer and a deeper connection to the Spirit by sharing in this ancient practice of communal prayer. \nOnline morning prayer is still available at 8:30 AM; click here!
URL:https://christchurchcranbrook.org/event/in-person-morning-prayer/2026-02-26/
LOCATION:Christ Church Cranbrook\, 470 Church Road\, Bloomfield Hills\, MI\, 48304\, United States
CATEGORIES:Worship Services
ATTACH;FMTTYPE=image/jpeg:https://christchurchcranbrook.org/wp-content/uploads/2023/06/WEB-1200-x-800-px-updated-21.jpg
END:VEVENT
BEGIN:VEVENT
DTSTART;TZID=America/Detroit:20260226T100000
DTEND;TZID=America/Detroit:20260226T110000
DTSTAMP:20260423T073934
CREATED:20230822T204826Z
LAST-MODIFIED:20230822T204826Z
UID:20693-1772100000-1772103600@christchurchcranbrook.org
SUMMARY:The Gospel this Week - Zoom Bible Study
DESCRIPTION:Get ready for Sunday!\n \nEach Thursday morning at 10am over Zoom you are invited to join us for a facilitated discussion of the upcoming Gospel reading!  The 1-hour conversation begins with a facilitator offering some historic background and context for the passage\, before opening it up for discussion and questions. This is a terrific way to stay connected to your faith community and to God\, while getting more out of the Sunday worship! \nWhile not necessary\, you can look ahead at the Gospel we will be studying each Thursday using an online calendar here. \nFor more information\, email Fr Chris. \nDuration: 1 hour \nJoin us on Zoom! \n\nTo join the video conference: https://christchurchcranbrook-org.zoom.us/j/99330872687?pwd=Wk9nRjJkYlZ2Y2pBKzF2ZU1zSDhNdz09\nTo join by phone: (312) 626-6799; Meeting ID: 993 3087 2687; Password: 281772\n\nSign up here: https://onrealm.org/ChristChurchCranbrook/PublicRegistrations/Event?linkString=OWRkZWYxYzMtOGFiNS00MmZiLTk1NDQtYjA2NjAxMTliYzM3
URL:https://christchurchcranbrook.org/event/the-gospel-this-week-zoom-bible-study/2026-02-26/
LOCATION:Christ Church Cranbrook\, 470 Church Road\, Bloomfield Hills\, MI\, 48304\, United States
CATEGORIES:Adult Formation,Fellowship & Small Groups
ATTACH;FMTTYPE=image/png:https://christchurchcranbrook.org/wp-content/uploads/2023/08/WEB-169-Website-20.png
END:VEVENT
BEGIN:VEVENT
DTSTART;TZID=America/Detroit:20260227T080000
DTEND;TZID=America/Detroit:20260227T083000
DTSTAMP:20260423T073934
CREATED:20230626T185849Z
LAST-MODIFIED:20260421T154310Z
UID:21984-1772179200-1772181000@christchurchcranbrook.org
SUMMARY:Morning Prayer
DESCRIPTION:All are welcome to join us on weekday mornings for in-person communal Morning Prayer at 8 AM in St. Paul’s Chapel using the Book of Common Prayer. Come together with others to nurture a rhythm of daily prayer and a deeper connection to the Spirit by sharing in this ancient practice of communal prayer. \nOnline morning prayer is still available at 8:30 AM; click here!
URL:https://christchurchcranbrook.org/event/in-person-morning-prayer/2026-02-27/
LOCATION:Christ Church Cranbrook\, 470 Church Road\, Bloomfield Hills\, MI\, 48304\, United States
CATEGORIES:Worship Services
ATTACH;FMTTYPE=image/jpeg:https://christchurchcranbrook.org/wp-content/uploads/2023/06/WEB-1200-x-800-px-updated-21.jpg
END:VEVENT
BEGIN:VEVENT
DTSTART;TZID=America/Detroit:20260227T080000
DTEND;TZID=America/Detroit:20260227T083000
DTSTAMP:20260423T073934
CREATED:20230626T185849Z
LAST-MODIFIED:20230626T185849Z
UID:22520-1772179200-1772181000@christchurchcranbrook.org
SUMMARY:Morning Prayer
DESCRIPTION:All are welcome to join us on weekday mornings for in-person communal Morning Prayer at 8 AM in St. Paul’s Chapel using the Book of Common Prayer. Come together with others to nurture a rhythm of daily prayer and a deeper connection to the Spirit by sharing in this ancient practice of communal prayer. \nOnline morning prayer is still available at 8:30 AM; click here!
URL:https://christchurchcranbrook.org/event/in-person-morning-prayer/2026-02-27/
LOCATION:Christ Church Cranbrook\, 470 Church Road\, Bloomfield Hills\, MI\, 48304\, United States
CATEGORIES:Worship Services
ATTACH;FMTTYPE=image/jpeg:https://christchurchcranbrook.org/wp-content/uploads/2023/06/WEB-1200-x-800-px-updated-21.jpg
END:VEVENT
BEGIN:VEVENT
DTSTART;TZID=America/Detroit:20260227T090000
DTEND;TZID=America/Detroit:20260227T120000
DTSTAMP:20260423T073934
CREATED:20260120T184209Z
LAST-MODIFIED:20260120T184209Z
UID:21251-1772182800-1772193600@christchurchcranbrook.org
SUMMARY:Serve Hot Meals at Baldwin Center
DESCRIPTION:Prep and package meals for those receiving support at the Baldwin Center in Pontiac. We arrive ready to help in whatever way is needed—chopping\, wrapping\, cooking\, scooping\, and serving. No special skills are required—except a willingness to serve with love! Click here to sign-up!
URL:https://christchurchcranbrook.org/event/serve-hot-meals-at-baldwin-center-2/2026-02-27/
LOCATION:Christ Church Cranbrook\, 470 Church Road\, Bloomfield Hills\, MI\, 48304\, United States
CATEGORIES:Service & Outreach
ATTACH;FMTTYPE=image/png:https://christchurchcranbrook.org/wp-content/uploads/2026/01/WEB-169-Website-25.png
END:VEVENT
BEGIN:VEVENT
DTSTART;VALUE=DATE:20260228
DTEND;VALUE=DATE:20260301
DTSTAMP:20260423T073934
CREATED:20260202T192601Z
LAST-MODIFIED:20260217T155526Z
UID:21353-1772236800-1772323199@christchurchcranbrook.org
SUMMARY:Item of the Month: Support Sanctum House
DESCRIPTION:In February\, we are collecting feminine products for the residents of Sanctum House. Help us to provide feminine essentials for these survivors\, and support them on their journey to a new life. Items will be collected in the Narthex of the sanctuary. \nPurchase items to be sent directly to the church here: ccc-info.org/iotm
URL:https://christchurchcranbrook.org/event/item-of-the-month-support-sanctum-house/
LOCATION:Christ Church Cranbrook\, 470 Church Road\, Bloomfield Hills\, MI\, 48304\, United States
CATEGORIES:Homepage Featured,IOTM,Service & Outreach
ATTACH;FMTTYPE=image/png:https://christchurchcranbrook.org/wp-content/uploads/2026/02/WEB-169-Website-38.png
END:VEVENT
BEGIN:VEVENT
DTSTART;TZID=America/Detroit:20260228T080000
DTEND;TZID=America/Detroit:20260228T083000
DTSTAMP:20260423T073934
CREATED:20230626T185849Z
LAST-MODIFIED:20230626T185849Z
UID:22294-1772265600-1772267400@christchurchcranbrook.org
SUMMARY:Morning Prayer
DESCRIPTION:All are welcome to join us on weekday mornings for in-person communal Morning Prayer at 8 AM in St. Paul’s Chapel using the Book of Common Prayer. Come together with others to nurture a rhythm of daily prayer and a deeper connection to the Spirit by sharing in this ancient practice of communal prayer. \nOnline morning prayer is still available at 8:30 AM; click here!
URL:https://christchurchcranbrook.org/event/in-person-morning-prayer/2026-02-28/
LOCATION:Christ Church Cranbrook\, 470 Church Road\, Bloomfield Hills\, MI\, 48304\, United States
CATEGORIES:Worship Services
ATTACH;FMTTYPE=image/jpeg:https://christchurchcranbrook.org/wp-content/uploads/2023/06/WEB-1200-x-800-px-updated-21.jpg
END:VEVENT
BEGIN:VEVENT
DTSTART;TZID=America/Detroit:20260228T080000
DTEND;TZID=America/Detroit:20260228T083000
DTSTAMP:20260423T073934
CREATED:20230626T185849Z
LAST-MODIFIED:20230626T185849Z
UID:22521-1772265600-1772267400@christchurchcranbrook.org
SUMMARY:Morning Prayer
DESCRIPTION:All are welcome to join us on weekday mornings for in-person communal Morning Prayer at 8 AM in St. Paul’s Chapel using the Book of Common Prayer. Come together with others to nurture a rhythm of daily prayer and a deeper connection to the Spirit by sharing in this ancient practice of communal prayer. \nOnline morning prayer is still available at 8:30 AM; click here!
URL:https://christchurchcranbrook.org/event/in-person-morning-prayer/2026-02-28/
LOCATION:Christ Church Cranbrook\, 470 Church Road\, Bloomfield Hills\, MI\, 48304\, United States
CATEGORIES:Worship Services
ATTACH;FMTTYPE=image/jpeg:https://christchurchcranbrook.org/wp-content/uploads/2023/06/WEB-1200-x-800-px-updated-21.jpg
END:VEVENT
BEGIN:VEVENT
DTSTART;TZID=America/Detroit:20260228T170000
DTEND;TZID=America/Detroit:20260228T180000
DTSTAMP:20260423T073934
CREATED:20200427T132518Z
LAST-MODIFIED:20260311T155220Z
UID:19822-1772298000-1772301600@christchurchcranbrook.org
SUMMARY:5 PM Saturday Service
DESCRIPTION:Join us for worship with eucharist in the main church. \n 
URL:https://christchurchcranbrook.org/event/saturday-evening-worship-virtual/2026-02-28/
LOCATION:Christ Church Cranbrook\, 470 Church Road\, Bloomfield Hills\, MI\, 48304\, United States
CATEGORIES:Worship Services
ATTACH;FMTTYPE=image/png:https://christchurchcranbrook.org/wp-content/uploads/2020/04/Untitled-1200-x-675-px.png
END:VEVENT
BEGIN:VEVENT
DTSTART;TZID=America/Detroit:20260301T080000
DTEND;TZID=America/Detroit:20260301T083000
DTSTAMP:20260423T073934
CREATED:20230626T185849Z
LAST-MODIFIED:20230626T185849Z
UID:22522-1772352000-1772353800@christchurchcranbrook.org
SUMMARY:Morning Prayer
DESCRIPTION:All are welcome to join us on weekday mornings for in-person communal Morning Prayer at 8 AM in St. Paul’s Chapel using the Book of Common Prayer. Come together with others to nurture a rhythm of daily prayer and a deeper connection to the Spirit by sharing in this ancient practice of communal prayer. \nOnline morning prayer is still available at 8:30 AM; click here!
URL:https://christchurchcranbrook.org/event/in-person-morning-prayer/2026-03-01/
LOCATION:Christ Church Cranbrook\, 470 Church Road\, Bloomfield Hills\, MI\, 48304\, United States
CATEGORIES:Worship Services
ATTACH;FMTTYPE=image/jpeg:https://christchurchcranbrook.org/wp-content/uploads/2023/06/WEB-1200-x-800-px-updated-21.jpg
END:VEVENT
BEGIN:VEVENT
DTSTART;TZID=America/Detroit:20260301T080000
DTEND;TZID=America/Detroit:20260301T083000
DTSTAMP:20260423T073934
CREATED:20230626T185849Z
LAST-MODIFIED:20230626T185849Z
UID:22295-1772352000-1772353800@christchurchcranbrook.org
SUMMARY:Morning Prayer
DESCRIPTION:All are welcome to join us on weekday mornings for in-person communal Morning Prayer at 8 AM in St. Paul’s Chapel using the Book of Common Prayer. Come together with others to nurture a rhythm of daily prayer and a deeper connection to the Spirit by sharing in this ancient practice of communal prayer. \nOnline morning prayer is still available at 8:30 AM; click here!
URL:https://christchurchcranbrook.org/event/in-person-morning-prayer/2026-03-01/
LOCATION:Christ Church Cranbrook\, 470 Church Road\, Bloomfield Hills\, MI\, 48304\, United States
CATEGORIES:Worship Services
ATTACH;FMTTYPE=image/jpeg:https://christchurchcranbrook.org/wp-content/uploads/2023/06/WEB-1200-x-800-px-updated-21.jpg
END:VEVENT
BEGIN:VEVENT
DTSTART;TZID=America/Detroit:20260301T100000
DTEND;TZID=America/Detroit:20260301T110000
DTSTAMP:20260423T073934
CREATED:20200427T124320Z
LAST-MODIFIED:20260310T143618Z
UID:19823-1772359200-1772362800@christchurchcranbrook.org
SUMMARY:10 AM Sunday Service (Online & In-person)
DESCRIPTION:Join us for our Service of the Word live-stream and in-person in the sanctuary. \nVisit cccathome.org to worship from home with readings\, a sermon\, and music.
URL:https://christchurchcranbrook.org/event/sunday-morning-worship-virtual/2026-03-01/
LOCATION:Christ Church Cranbrook\, 470 Church Road\, Bloomfield Hills\, MI\, 48304\, United States
CATEGORIES:Worship Services
ATTACH;FMTTYPE=image/png:https://christchurchcranbrook.org/wp-content/uploads/2020/04/WEB-169-Website-24.png
END:VEVENT
BEGIN:VEVENT
DTSTART;TZID=America/Detroit:20260301T113000
DTEND;TZID=America/Detroit:20260301T123000
DTSTAMP:20260423T073934
CREATED:20230314T175425Z
LAST-MODIFIED:20260311T190749Z
UID:19824-1772364600-1772368200@christchurchcranbrook.org
SUMMARY:In Need of Prayers?
DESCRIPTION:If you are in need of prayers\, we hope that you will join Pastor Manisha and Pastor Joyce in St. Paul’s Chapel after the 10 AM service as they pray with anyone who needs it! \nQuestions? Email Pastor Manisha at mdostert@christchurchcranbrook.org
URL:https://christchurchcranbrook.org/event/in-need-of-prayers/2026-03-01/
LOCATION:Christ Church Cranbrook\, 470 Church Road\, Bloomfield Hills\, MI\, 48304\, United States
CATEGORIES:Pastoral Care,Worship Services
ATTACH;FMTTYPE=image/png:https://christchurchcranbrook.org/wp-content/uploads/2023/03/WEB-169-Website-23.png
END:VEVENT
END:VCALENDAR