﻿BEGIN:VCALENDAR
VERSION:2.0
PRODID:-//CCC - ECPv6.15.17.1//NONSGML v1.0//EN
CALSCALE:GREGORIAN
METHOD:PUBLISH
X-ORIGINAL-URL:https://christchurchcranbrook.org
X-WR-CALDESC:Events for CCC
REFRESH-INTERVAL;VALUE=DURATION:PT1H
X-Robots-Tag:noindex
X-PUBLISHED-TTL:PT1H
BEGIN:VTIMEZONE
TZID:America/Detroit
BEGIN:DAYLIGHT
TZOFFSETFROM:-0500
TZOFFSETTO:-0400
TZNAME:EDT
DTSTART:20250309T070000
END:DAYLIGHT
BEGIN:STANDARD
TZOFFSETFROM:-0400
TZOFFSETTO:-0500
TZNAME:EST
DTSTART:20251102T060000
END:STANDARD
BEGIN:DAYLIGHT
TZOFFSETFROM:-0500
TZOFFSETTO:-0400
TZNAME:EDT
DTSTART:20260308T070000
END:DAYLIGHT
BEGIN:STANDARD
TZOFFSETFROM:-0400
TZOFFSETTO:-0500
TZNAME:EST
DTSTART:20261101T060000
END:STANDARD
BEGIN:DAYLIGHT
TZOFFSETFROM:-0500
TZOFFSETTO:-0400
TZNAME:EDT
DTSTART:20270314T070000
END:DAYLIGHT
BEGIN:STANDARD
TZOFFSETFROM:-0400
TZOFFSETTO:-0500
TZNAME:EST
DTSTART:20271107T060000
END:STANDARD
END:VTIMEZONE
BEGIN:VEVENT
DTSTART;TZID=America/Detroit:20260509T120000
DTEND;TZID=America/Detroit:20260509T163000
DTSTAMP:20260425T100116
CREATED:20260420T154724Z
LAST-MODIFIED:20260420T154724Z
UID:21813-1778328000-1778344200@christchurchcranbrook.org
SUMMARY:CCC Young Adults: Thank God For Art: A Trip to the DIA
DESCRIPTION:Join us for a meaningful outing of art and faith! Together\, we’ll explore the Detroit Institute of Arts and practice seeing God more deeply through creativity. You don’t need to be an art scholar! Just come with an open and curious heart. Wander the museum on your own or with friends\, spend time with artworks that stand out\, and reflect on what you see\, feel\, and how it might connect to your faith. We’ll wrap up the day by sharing what inspired or challenged us. \nWe will meet at Christ Church Cranbrook and take the van to the DIA. Admission to the DIA is free for all residents of Macomb\, Oakland\, and Wayne counties. Bring your ID to get in free of charge! \nYoung adults can join our Discord for more details and updates! ccc-info.org/YA
URL:https://christchurchcranbrook.org/event/ccc-young-adults-thank-god-for-art-a-trip-to-the-dia/
LOCATION:Christ Church Cranbrook\, 470 Church Road\, Bloomfield Hills\, MI\, 48304\, United States
CATEGORIES:Fellowship & Small Groups
ATTACH;FMTTYPE=image/jpeg:https://christchurchcranbrook.org/wp-content/uploads/2026/04/WEB-1200-x-800-px-updated-2.jpg
END:VEVENT
END:VCALENDAR