﻿BEGIN:VCALENDAR
VERSION:2.0
PRODID:-//CCC - ECPv6.15.17.1//NONSGML v1.0//EN
CALSCALE:GREGORIAN
METHOD:PUBLISH
X-ORIGINAL-URL:https://christchurchcranbrook.org
X-WR-CALDESC:Events for CCC
REFRESH-INTERVAL;VALUE=DURATION:PT1H
X-Robots-Tag:noindex
X-PUBLISHED-TTL:PT1H
BEGIN:VTIMEZONE
TZID:America/Detroit
BEGIN:DAYLIGHT
TZOFFSETFROM:-0500
TZOFFSETTO:-0400
TZNAME:EDT
DTSTART:20250309T070000
END:DAYLIGHT
BEGIN:STANDARD
TZOFFSETFROM:-0400
TZOFFSETTO:-0500
TZNAME:EST
DTSTART:20251102T060000
END:STANDARD
BEGIN:DAYLIGHT
TZOFFSETFROM:-0500
TZOFFSETTO:-0400
TZNAME:EDT
DTSTART:20260308T070000
END:DAYLIGHT
BEGIN:STANDARD
TZOFFSETFROM:-0400
TZOFFSETTO:-0500
TZNAME:EST
DTSTART:20261101T060000
END:STANDARD
BEGIN:DAYLIGHT
TZOFFSETFROM:-0500
TZOFFSETTO:-0400
TZNAME:EDT
DTSTART:20270314T070000
END:DAYLIGHT
BEGIN:STANDARD
TZOFFSETFROM:-0400
TZOFFSETTO:-0500
TZNAME:EST
DTSTART:20271107T060000
END:STANDARD
END:VTIMEZONE
BEGIN:VEVENT
DTSTART;TZID=America/Detroit:20260403T120000
DTEND;TZID=America/Detroit:20260403T150000
DTSTAMP:20260422T175655
CREATED:20260324T164922Z
LAST-MODIFIED:20260325T164009Z
UID:21740-1775217600-1775228400@christchurchcranbrook.org
SUMMARY:Fr. Bill will preach at the Good Friday Service at Hartford Memorial Baptist Church
DESCRIPTION:On the cross\, Jesus uttered seven “last words.” Father Bill Danaher has been invited by Hartford Memorial Baptist Church to preach the final word of Jesus: “It is finished.” The Good Friday service begins at noon and Father Bill will preach around 2.30pm. Come after our 12 pm Good Friday service and be one Body in Christ.
URL:https://christchurchcranbrook.org/event/fr-bill-will-preach-at-the-good-friday-service-at-hartford-memorial-baptist-church/
LOCATION:Hartford Memorial Baptist Church\, 18700 James Couzens Fwy\, Detroit\, MI\, 48235\, United States
CATEGORIES:Worship Services
ATTACH;FMTTYPE=image/png:https://christchurchcranbrook.org/wp-content/uploads/2026/03/WEB-1200-x-800-px-updated-32.png
END:VEVENT
END:VCALENDAR